FILENAME: O4710628.NES.1112379.tif
QUADRANGLE_NAME: GILBERT CREEK SE
QUADRANT: NE
WEST_LONGITUDE: -106 33 45.00000
EAST_LONGITUDE: -106 30 0.00000
NORTH_LATITUDE: 47 37 30.00000
SOUTH_LATITUDE: 47 33 45.00000
PRODUCTION_DATE: 2000 11 15
RASTER_ORDER: LEFT_RIGHT/TOP_BOTTOM
BAND_ORGANIZATION: SINGLE FILE
BAND_CONTENT: BLACK&WHITE
BAND_CONTENT: UNDEFINED
BAND_CONTENT: UNDEFINED
BITS_PER_PIXEL: 8
SAMPLES_AND_LINES: 5484 7644
HORIZONTAL_DATUM: NAD83
HORIZONTAL_COORDINATE_SYSTEM: UTM
COORDINATE_ZONE: 13
HORIZONTAL_UNITS: METERS
HORIZONTAL_RESOLUTION: 1.00000
SECONDARY_HORIZONTAL_DATUM: NAD27
XY_ORIGIN: 382117.00000 5276107.00000
SECONDARY_XY_ORIGIN: 382158.59700 5275886.73400
NATION: US
NATION: "SCIENCE
STATE: MT
NW_QUAD_CORNER_XY: 382603.67500 5275804.58900
NE_QUAD_CORNER_XY: 387299.42900 5275711.85700
SE_QUAD_CORNERY_XY: 387165.12900 5268765.94800
SW_QUAD_CORNER_XY: 382463.77600 5268858.69800
SECONDARY_NW_QUAD_XY: 382600.00900 5275585.84900
SECONDARY_NE_QUAD_XY: 387295.91000 5275493.11500
SECONDARY_SE_QUAD_XY: 387161.61000 5268547.22600
SECONDARY_SW_QUAD_XY: 382460.11100 5268639.97900
RMSE_XY: 1.70000
IMAGE_SOURCE: BLACK AND WHITE FILM
SOURCE_IMAGE_ID: NAPP 9110 093
SOURCE_IMAGE_DATE: 1996 08 11
SOURCE_IMAGE_ID: NAPP 9110 094
SOURCE_IMAGE_DATE: 1996 08 11
SOURCE_DEM_DATE: 1993 00 00
AGENCY: WESTERN MAPPING CENTER (WMC)
PRODUCER: UNDEFINED
PRODUCTION_SYSTEM: GIS/MAGIC
COMPRESSION: UNDEFINED
STANDARD_VERSION: 1996 12
METADATA_DATE: 2000 11 16
DATA_FILE_SIZE: 41925180
BYTE_COUNT: 5484
