FILENAME: O4710629.NWS.1112416.tif
QUADRANGLE_NAME: FLAT CREEK SCHOOL
QUADRANT: NW
WEST_LONGITUDE: -106 30 0.00000
EAST_LONGITUDE: -106 26 15.00000
NORTH_LATITUDE: 47 37 30.00000
SOUTH_LATITUDE: 47 33 45.00000
PRODUCTION_DATE: 2000 11 13
RASTER_ORDER: LEFT_RIGHT/TOP_BOTTOM
BAND_ORGANIZATION: SINGLE FILE
BAND_CONTENT: BLACK&WHITE
BAND_CONTENT: UNDEFINED
BAND_CONTENT: UNDEFINED
BITS_PER_PIXEL: 8
SAMPLES_AND_LINES: 5478 7640
HORIZONTAL_DATUM: NAD83
HORIZONTAL_COORDINATE_SYSTEM: UTM
COORDINATE_ZONE: 13
HORIZONTAL_UNITS: METERS
HORIZONTAL_RESOLUTION: 1.00000
SECONDARY_HORIZONTAL_DATUM: NAD27
XY_ORIGIN: 386819.00000 5276014.00000
SECONDARY_XY_ORIGIN: 386860.40700 5275793.79800
NATION: US
NATION: "SCIENCE
STATE: MT
NW_QUAD_CORNER_XY: 387299.42900 5275711.85700
NE_QUAD_CORNER_XY: 391995.19600 5275622.91100
SE_QUAD_CORNERY_XY: 391866.49300 5268676.98500
SW_QUAD_CORNER_XY: 387165.12900 5268765.94800
SECONDARY_NW_QUAD_XY: 387295.91000 5275493.11500
SECONDARY_NE_QUAD_XY: 391991.82300 5275404.16600
SECONDARY_SE_QUAD_XY: 391863.12100 5268458.26000
SECONDARY_SW_QUAD_XY: 387161.61000 5268547.22600
RMSE_XY: 1.20000
IMAGE_SOURCE: BLACK AND WHITE FILM
SOURCE_IMAGE_ID: NAPP 9109 140
SOURCE_IMAGE_DATE: 1996 08 11
SOURCE_IMAGE_ID: NAPP 9109 139
SOURCE_IMAGE_DATE: 1996 08 11
SOURCE_DEM_DATE: 1971 00 00
AGENCY: WESTERN MAPPING CENTER (WMC)
PRODUCER: UNDEFINED
PRODUCTION_SYSTEM: GIS/MAGIC
COMPRESSION: UNDEFINED
STANDARD_VERSION: 1996 12
METADATA_DATE: 2000 11 16
DATA_FILE_SIZE: 41857398
BYTE_COUNT: 5478
