FILENAME: O4710630.NWS.1112460.tif
QUADRANGLE_NAME: SHORT CREEK
QUADRANT: NW
WEST_LONGITUDE: -106 22 30.00000
EAST_LONGITUDE: -106 18 45.00000
NORTH_LATITUDE: 47 37 30.00000
SOUTH_LATITUDE: 47 33 45.00000
PRODUCTION_DATE: 2000 11 13
RASTER_ORDER: LEFT_RIGHT/TOP_BOTTOM
BAND_ORGANIZATION: SINGLE FILE
BAND_CONTENT: BLACK&WHITE
BAND_CONTENT: UNDEFINED
BAND_CONTENT: UNDEFINED
BITS_PER_PIXEL: 8
SAMPLES_AND_LINES: 5466 7632
HORIZONTAL_DATUM: NAD83
HORIZONTAL_COORDINATE_SYSTEM: UTM
COORDINATE_ZONE: 13
HORIZONTAL_UNITS: METERS
HORIZONTAL_RESOLUTION: 1.00000
SECONDARY_HORIZONTAL_DATUM: NAD27
XY_ORIGIN: 396222.00000 5275840.00000
SECONDARY_XY_ORIGIN: 396263.14500 5275619.94400
NATION: US
NATION: "SCIENCE
STATE: MT
NW_QUAD_CORNER_XY: 396690.97300 5275537.75200
NE_QUAD_CORNER_XY: 401386.76200 5275456.37900
SE_QUAD_CORNERY_XY: 401269.25500 5268510.42000
SW_QUAD_CORNER_XY: 396567.86800 5268591.80900
SECONDARY_NW_QUAD_XY: 396687.74700 5275319.00400
SECONDARY_NE_QUAD_XY: 401383.68300 5275237.62800
SECONDARY_SE_QUAD_XY: 401266.17600 5268291.69000
SECONDARY_SW_QUAD_XY: 396564.64300 5268373.08100
RMSE_XY: 1.30000
IMAGE_SOURCE: BLACK AND WHITE FILM
SOURCE_IMAGE_ID: NAPP 9106 169
SOURCE_IMAGE_DATE: 1996 08 07
SOURCE_IMAGE_ID: NAPP 9106 170
SOURCE_IMAGE_DATE: 1996 08 07
SOURCE_IMAGE_ID: NAPP 9106 168
SOURCE_IMAGE_DATE: 1996 08 07
SOURCE_DEM_DATE: 1971 00 00
AGENCY: WESTERN MAPPING CENTER (WMC)
PRODUCER: UNDEFINED
PRODUCTION_SYSTEM: GIS/MAGIC
COMPRESSION: UNDEFINED
STANDARD_VERSION: 1996 12
METADATA_DATE: 2000 11 16
DATA_FILE_SIZE: 41721978
BYTE_COUNT: 5466
