FILENAME: O4710631.NWS.1112496.tif
QUADRANGLE_NAME: NELSON CREEK BAY
QUADRANT: NW
WEST_LONGITUDE: -106 15 0.00000
EAST_LONGITUDE: -106 11 15.00000
NORTH_LATITUDE: 47 37 30.00000
SOUTH_LATITUDE: 47 33 45.00000
PRODUCTION_DATE: 2000 11 14
RASTER_ORDER: LEFT_RIGHT/TOP_BOTTOM
BAND_ORGANIZATION: SINGLE FILE
BAND_CONTENT: BLACK&WHITE
BAND_CONTENT: UNDEFINED
BAND_CONTENT: UNDEFINED
BITS_PER_PIXEL: 8
SAMPLES_AND_LINES: 5455 7623
HORIZONTAL_DATUM: NAD83
HORIZONTAL_COORDINATE_SYSTEM: UTM
COORDINATE_ZONE: 13
HORIZONTAL_UNITS: METERS
HORIZONTAL_RESOLUTION: 1.00000
SECONDARY_HORIZONTAL_DATUM: NAD27
XY_ORIGIN: 405625.00000 5275680.00000
SECONDARY_XY_ORIGIN: 405665.88200 5275460.10300
NATION: US
NATION: "SCIENCE
STATE: MT
NW_QUAD_CORNER_XY: 406082.56200 5275378.79100
NE_QUAD_CORNER_XY: 410778.37100 5275304.99000
SE_QUAD_CORNERY_XY: 410672.05800 5268359.00100
SW_QUAD_CORNER_XY: 405970.65100 5268432.81700
SECONDARY_NW_QUAD_XY: 406079.62900 5275160.03900
SECONDARY_NE_QUAD_XY: 410775.58500 5275086.23500
SECONDARY_SE_QUAD_XY: 410669.27200 5268140.26700
SECONDARY_SW_QUAD_XY: 405967.71900 5268214.08500
RMSE_XY: 2.30000
IMAGE_SOURCE: BLACK AND WHITE FILM
SOURCE_IMAGE_ID: NAPP 9106 074
SOURCE_IMAGE_DATE: 1996 08 07
SOURCE_IMAGE_ID: NAPP 9106 050
SOURCE_IMAGE_DATE: 1996 08 07
SOURCE_IMAGE_ID: NAPP 9106 052
SOURCE_IMAGE_DATE: 1996 08 07
SOURCE_DEM_DATE: 1993 00 00
AGENCY: WESTERN MAPPING CENTER (WMC)
PRODUCER: UNDEFINED
PRODUCTION_SYSTEM: GIS/MAGIC
COMPRESSION: UNDEFINED
STANDARD_VERSION: 1996 12
METADATA_DATE: 2000 11 16
DATA_FILE_SIZE: 41588920
BYTE_COUNT: 5455
