FILENAME: O4710634.SES.1112284.tif
QUADRANGLE_NAME: JORDAN NE
QUADRANT: SE
WEST_LONGITUDE: -106 48 45.00000
EAST_LONGITUDE: -106 45 0.00000
NORTH_LATITUDE: 47 26 15.00000
SOUTH_LATITUDE: 47 22 30.00000
PRODUCTION_DATE: 2000 11 13
RASTER_ORDER: LEFT_RIGHT/TOP_BOTTOM
BAND_ORGANIZATION: SINGLE FILE
BAND_CONTENT: BLACK&WHITE
BAND_CONTENT: UNDEFINED
BAND_CONTENT: UNDEFINED
BITS_PER_PIXEL: 8
SAMPLES_AND_LINES: 5523 7658
HORIZONTAL_DATUM: NAD83
HORIZONTAL_COORDINATE_SYSTEM: UTM
COORDINATE_ZONE: 13
HORIZONTAL_UNITS: METERS
HORIZONTAL_RESOLUTION: 1.00000
SECONDARY_HORIZONTAL_DATUM: NAD27
XY_ORIGIN: 362825.00000 5255678.00000
SECONDARY_XY_ORIGIN: 362867.33800 5255458.02100
NATION: US
NATION: "SCIENCE
STATE: MT
NW_QUAD_CORNER_XY: 363334.39600 5255376.15800
NE_QUAD_CORNER_XY: 368046.87800 5255268.21600
SE_QUAD_CORNERY_XY: 367890.65700 5248322.59100
SW_QUAD_CORNER_XY: 363172.59200 5248430.55200
SECONDARY_NW_QUAD_XY: 363330.14500 5255157.49500
SECONDARY_NE_QUAD_XY: 368042.77400 5255049.55000
SECONDARY_SE_QUAD_XY: 367886.55300 5248103.94700
SECONDARY_SW_QUAD_XY: 363168.34200 5248211.91200
RMSE_XY: 1.60000
IMAGE_SOURCE: BLACK AND WHITE FILM
SOURCE_IMAGE_ID: NAPP 9109 041
SOURCE_IMAGE_DATE: 1996 08 11
SOURCE_DEM_DATE: 1993 00 00
AGENCY: WESTERN MAPPING CENTER (WMC)
PRODUCER: UNDEFINED
PRODUCTION_SYSTEM: GIS/MAGIC
COMPRESSION: UNDEFINED
STANDARD_VERSION: 1996 12
METADATA_DATE: 2000 11 17
DATA_FILE_SIZE: 42300657
BYTE_COUNT: 5523
