FILENAME: O4710635.SWS.1112329.tif
QUADRANGLE_NAME: BATEMAN COULEE
QUADRANT: SW
WEST_LONGITUDE: -106 45 0.00000
EAST_LONGITUDE: -106 41 15.00000
NORTH_LATITUDE: 47 26 15.00000
SOUTH_LATITUDE: 47 22 30.00000
PRODUCTION_DATE: 2000 11 13
RASTER_ORDER: LEFT_RIGHT/TOP_BOTTOM
BAND_ORGANIZATION: SINGLE FILE
BAND_CONTENT: BLACK&WHITE
BAND_CONTENT: UNDEFINED
BAND_CONTENT: UNDEFINED
BITS_PER_PIXEL: 8
SAMPLES_AND_LINES: 5518 7654
HORIZONTAL_DATUM: NAD83
HORIZONTAL_COORDINATE_SYSTEM: UTM
COORDINATE_ZONE: 13
HORIZONTAL_UNITS: METERS
HORIZONTAL_RESOLUTION: 1.00000
SECONDARY_HORIZONTAL_DATUM: NAD27
XY_ORIGIN: 367543.00000 5255570.00000
SECONDARY_XY_ORIGIN: 367585.20800 5255350.09500
NATION: US
NATION: "SCIENCE
STATE: MT
NW_QUAD_CORNER_XY: 368046.87800 5255268.21600
NE_QUAD_CORNER_XY: 372759.37300 5255164.06400
SE_QUAD_CORNERY_XY: 372608.73400 5248218.42000
SW_QUAD_CORNER_XY: 367890.65700 5248322.59100
SECONDARY_NW_QUAD_XY: 368042.77400 5255049.55000
SECONDARY_NE_QUAD_XY: 372755.41600 5254945.39400
SECONDARY_SE_QUAD_XY: 372604.77700 5247999.77300
SECONDARY_SW_QUAD_XY: 367886.55300 5248103.94700
RMSE_XY: 1.80000
IMAGE_SOURCE: BLACK AND WHITE FILM
SOURCE_IMAGE_ID: NAPP 9111 210
SOURCE_IMAGE_DATE: 1996 08 11
SOURCE_DEM_DATE: 1993 00 00
AGENCY: WESTERN MAPPING CENTER (WMC)
PRODUCER: UNDEFINED
PRODUCTION_SYSTEM: GIS/MAGIC
COMPRESSION: UNDEFINED
STANDARD_VERSION: 1996 12
METADATA_DATE: 2000 11 16
DATA_FILE_SIZE: 42240290
BYTE_COUNT: 5518
