FILENAME: O4710635.SES.1112328.tif
QUADRANGLE_NAME: BATEMAN COULEE
QUADRANT: SE
WEST_LONGITUDE: -106 41 15.00000
EAST_LONGITUDE: -106 37 30.00000
NORTH_LATITUDE: 47 26 15.00000
SOUTH_LATITUDE: 47 22 30.00000
PRODUCTION_DATE: 2000 11 14
RASTER_ORDER: LEFT_RIGHT/TOP_BOTTOM
BAND_ORGANIZATION: SINGLE FILE
BAND_CONTENT: BLACK&WHITE
BAND_CONTENT: UNDEFINED
BAND_CONTENT: UNDEFINED
BITS_PER_PIXEL: 8
SAMPLES_AND_LINES: 5512 7650
HORIZONTAL_DATUM: NAD83
HORIZONTAL_COORDINATE_SYSTEM: UTM
COORDINATE_ZONE: 13
HORIZONTAL_UNITS: METERS
HORIZONTAL_RESOLUTION: 1.00000
SECONDARY_HORIZONTAL_DATUM: NAD27
XY_ORIGIN: 372261.00000 5255466.00000
SECONDARY_XY_ORIGIN: 372303.05400 5255246.18100
NATION: US
NATION: "SCIENCE
STATE: MT
NW_QUAD_CORNER_XY: 372759.37300 5255164.06400
NE_QUAD_CORNER_XY: 377471.88100 5255063.70100
SE_QUAD_CORNERY_XY: 377326.82400 5248118.03900
SW_QUAD_CORNER_XY: 372608.73400 5248218.42000
SECONDARY_NW_QUAD_XY: 372755.41600 5254945.39400
SECONDARY_NE_QUAD_XY: 377468.07000 5254845.02800
SECONDARY_SE_QUAD_XY: 377323.01300 5247899.38900
SECONDARY_SW_QUAD_XY: 372604.77700 5247999.77300
RMSE_XY: 2.50000
IMAGE_SOURCE: BLACK AND WHITE FILM
SOURCE_IMAGE_ID: NAPP 9111 105
SOURCE_IMAGE_DATE: 1996 08 11
SOURCE_IMAGE_ID: NAPP 9111 106
SOURCE_IMAGE_DATE: 1996 08 11
SOURCE_IMAGE_ID: NAPP 9110 193
SOURCE_IMAGE_DATE: 1996 08 11
SOURCE_DEM_DATE: 1993 00 00
AGENCY: WESTERN MAPPING CENTER (WMC)
PRODUCER: UNDEFINED
PRODUCTION_SYSTEM: GIS/MAGIC
COMPRESSION: UNDEFINED
STANDARD_VERSION: 1996 12
METADATA_DATE: 2000 11 16
DATA_FILE_SIZE: 42172312
BYTE_COUNT: 5512
