FILENAME: O4710636.NES.1112383.tif
QUADRANGLE_NAME: BATEMAN COULEE NE
QUADRANT: NE
WEST_LONGITUDE: -106 33 45.00000
EAST_LONGITUDE: -106 30 0.00000
NORTH_LATITUDE: 47 30 0.00000
SOUTH_LATITUDE: 47 26 15.00000
PRODUCTION_DATE: 2000 11 15
RASTER_ORDER: LEFT_RIGHT/TOP_BOTTOM
BAND_ORGANIZATION: SINGLE FILE
BAND_CONTENT: BLACK&WHITE
BAND_CONTENT: UNDEFINED
BAND_CONTENT: UNDEFINED
BITS_PER_PIXEL: 8
SAMPLES_AND_LINES: 5494 7642
HORIZONTAL_DATUM: NAD83
HORIZONTAL_COORDINATE_SYSTEM: UTM
COORDINATE_ZONE: 13
HORIZONTAL_UNITS: METERS
HORIZONTAL_RESOLUTION: 1.00000
SECONDARY_HORIZONTAL_DATUM: NAD27
XY_ORIGIN: 381838.00000 5262214.00000
SECONDARY_XY_ORIGIN: 381879.73200 5261994.20400
NATION: US
NATION: "SCIENCE
STATE: MT
NW_QUAD_CORNER_XY: 382324.01800 5261912.87700
NE_QUAD_CORNER_XY: 387030.96300 5261820.11000
SE_QUAD_CORNERY_XY: 386896.93300 5254874.34200
SW_QUAD_CORNER_XY: 382184.40100 5254967.12700
SECONDARY_NW_QUAD_XY: 382320.35300 5261694.18000
SECONDARY_NE_QUAD_XY: 387027.44500 5261601.40900
SECONDARY_SE_QUAD_XY: 386893.41500 5254655.66400
SECONDARY_SW_QUAD_XY: 382180.73700 5254748.45100
RMSE_XY: 1.50000
IMAGE_SOURCE: BLACK AND WHITE FILM
SOURCE_IMAGE_ID: NAPP 9110 089
SOURCE_IMAGE_DATE: 1996 08 11
SOURCE_IMAGE_ID: NAPP 9110 088
SOURCE_IMAGE_DATE: 1996 08 11
SOURCE_DEM_DATE: 1993 00 00
AGENCY: WESTERN MAPPING CENTER (WMC)
PRODUCER: UNDEFINED
PRODUCTION_SYSTEM: GIS/MAGIC
COMPRESSION: UNDEFINED
STANDARD_VERSION: 1996 12
METADATA_DATE: 2000 11 16
DATA_FILE_SIZE: 41990642
BYTE_COUNT: 5494
