FILENAME: O4710637.SWS.1112422.tif
QUADRANGLE_NAME: HAGEN GAP
QUADRANT: SW
WEST_LONGITUDE: -106 30 0.00000
EAST_LONGITUDE: -106 26 15.00000
NORTH_LATITUDE: 47 26 15.00000
SOUTH_LATITUDE: 47 22 30.00000
PRODUCTION_DATE: 2000 11 13
RASTER_ORDER: LEFT_RIGHT/TOP_BOTTOM
BAND_ORGANIZATION: SINGLE FILE
BAND_CONTENT: BLACK&WHITE
BAND_CONTENT: UNDEFINED
BAND_CONTENT: UNDEFINED
BITS_PER_PIXEL: 8
SAMPLES_AND_LINES: 5495 7639
HORIZONTAL_DATUM: NAD83
HORIZONTAL_COORDINATE_SYSTEM: UTM
COORDINATE_ZONE: 13
HORIZONTAL_UNITS: METERS
HORIZONTAL_RESOLUTION: 1.00000
SECONDARY_HORIZONTAL_DATUM: NAD27
XY_ORIGIN: 386416.00000 5255176.00000
SECONDARY_XY_ORIGIN: 386457.57800 5254956.44300
NATION: US
NATION: "SCIENCE
STATE: MT
NW_QUAD_CORNER_XY: 386896.93300 5254874.34200
NE_QUAD_CORNER_XY: 391609.47600 5254785.34600
SE_QUAD_CORNERY_XY: 391481.16300 5247839.63300
SW_QUAD_CORNER_XY: 386763.03900 5247928.64600
SECONDARY_NW_QUAD_XY: 386893.41500 5254655.66400
SECONDARY_NE_QUAD_XY: 391606.10500 5254566.66400
SECONDARY_SE_QUAD_XY: 391477.79200 5247620.97500
SECONDARY_SW_QUAD_XY: 386759.52100 5247709.99000
RMSE_XY: 1.20000
IMAGE_SOURCE: BLACK AND WHITE FILM
SOURCE_IMAGE_ID: NAPP 9109 146
SOURCE_IMAGE_DATE: 1996 08 11
SOURCE_IMAGE_ID: NAPP 9109 163
SOURCE_IMAGE_DATE: 1996 08 11
SOURCE_DEM_DATE: 1966 00 00
AGENCY: WESTERN MAPPING CENTER (WMC)
PRODUCER: UNDEFINED
PRODUCTION_SYSTEM: GIS/MAGIC
COMPRESSION: UNDEFINED
STANDARD_VERSION: 1996 12
METADATA_DATE: 2000 11 16
DATA_FILE_SIZE: 41981800
BYTE_COUNT: 5495
