FILENAME: O4710637.NWS.1112420.tif
QUADRANGLE_NAME: HAGEN GAP
QUADRANT: NW
WEST_LONGITUDE: -106 30 0.00000
EAST_LONGITUDE: -106 26 15.00000
NORTH_LATITUDE: 47 30 0.00000
SOUTH_LATITUDE: 47 26 15.00000
PRODUCTION_DATE: 2000 11 13
RASTER_ORDER: LEFT_RIGHT/TOP_BOTTOM
BAND_ORGANIZATION: SINGLE FILE
BAND_CONTENT: BLACK&WHITE
BAND_CONTENT: UNDEFINED
BAND_CONTENT: UNDEFINED
BITS_PER_PIXEL: 8
SAMPLES_AND_LINES: 5489 7639
HORIZONTAL_DATUM: NAD83
HORIZONTAL_COORDINATE_SYSTEM: UTM
COORDINATE_ZONE: 13
HORIZONTAL_UNITS: METERS
HORIZONTAL_RESOLUTION: 1.00000
SECONDARY_HORIZONTAL_DATUM: NAD27
XY_ORIGIN: 386550.00000 5262122.00000
SECONDARY_XY_ORIGIN: 386591.56000 5261902.28900
NATION: US
NATION: "SCIENCE
STATE: MT
NW_QUAD_CORNER_XY: 387030.96300 5261820.11000
NE_QUAD_CORNER_XY: 391737.92000 5261731.13000
SE_QUAD_CORNERY_XY: 391609.47600 5254785.34600
SW_QUAD_CORNER_XY: 386896.93300 5254874.34200
SECONDARY_NW_QUAD_XY: 387027.44500 5261601.40900
SECONDARY_NE_QUAD_XY: 391734.54800 5261512.42600
SECONDARY_SE_QUAD_XY: 391606.10500 5254566.66400
SECONDARY_SW_QUAD_XY: 386893.41500 5254655.66400
RMSE_XY: 1.10000
IMAGE_SOURCE: BLACK AND WHITE FILM
SOURCE_IMAGE_ID: NAPP 9109 144
SOURCE_IMAGE_DATE: 1996 08 11
SOURCE_DEM_DATE: 1966 00 00
AGENCY: WESTERN MAPPING CENTER (WMC)
PRODUCER: UNDEFINED
PRODUCTION_SYSTEM: GIS/MAGIC
COMPRESSION: UNDEFINED
STANDARD_VERSION: 1996 12
METADATA_DATE: 2000 11 16
DATA_FILE_SIZE: 41935960
BYTE_COUNT: 5489
