FILENAME: O4710637.NES.1112419.tif
QUADRANGLE_NAME: HAGEN GAP
QUADRANT: NE
WEST_LONGITUDE: -106 26 15.00000
EAST_LONGITUDE: -106 22 30.00000
NORTH_LATITUDE: 47 30 0.00000
SOUTH_LATITUDE: 47 26 15.00000
PRODUCTION_DATE: 2000 11 13
RASTER_ORDER: LEFT_RIGHT/TOP_BOTTOM
BAND_ORGANIZATION: SINGLE FILE
BAND_CONTENT: BLACK&WHITE
BAND_CONTENT: UNDEFINED
BAND_CONTENT: UNDEFINED
BITS_PER_PIXEL: 8
SAMPLES_AND_LINES: 5483 7635
HORIZONTAL_DATUM: NAD83
HORIZONTAL_COORDINATE_SYSTEM: UTM
COORDINATE_ZONE: 13
HORIZONTAL_UNITS: METERS
HORIZONTAL_RESOLUTION: 1.00000
SECONDARY_HORIZONTAL_DATUM: NAD27
XY_ORIGIN: 391263.00000 5262033.00000
SECONDARY_XY_ORIGIN: 391304.45200 5261813.36800
NATION: US
NATION: "SCIENCE
STATE: MT
NW_QUAD_CORNER_XY: 391737.92000 5261731.13000
NE_QUAD_CORNER_XY: 396444.88700 5261645.93700
SE_QUAD_CORNERY_XY: 396322.03000 5254700.13800
SW_QUAD_CORNER_XY: 391609.47600 5254785.34600
SECONDARY_NW_QUAD_XY: 391734.54800 5261512.42600
SECONDARY_NE_QUAD_XY: 396441.66200 5261427.23100
SECONDARY_SE_QUAD_XY: 396318.80500 5254481.45400
SECONDARY_SW_QUAD_XY: 391606.10500 5254566.66400
RMSE_XY: 1.20000
IMAGE_SOURCE: BLACK AND WHITE FILM
SOURCE_IMAGE_ID: NAPP 9109 167
SOURCE_IMAGE_DATE: 1996 08 11
SOURCE_IMAGE_ID: NAPP 9109 168
SOURCE_IMAGE_DATE: 1996 08 11
SOURCE_DEM_DATE: 1966 00 00
AGENCY: WESTERN MAPPING CENTER (WMC)
PRODUCER: UNDEFINED
PRODUCTION_SYSTEM: GIS/MAGIC
COMPRESSION: UNDEFINED
STANDARD_VERSION: 1996 12
METADATA_DATE: 2000 11 16
DATA_FILE_SIZE: 41868188
BYTE_COUNT: 5483
