FILENAME: O4710641.SES.1112252.tif
QUADRANGLE_NAME: JORDAN
QUADRANT: SE
WEST_LONGITUDE: -106 56 15.00000
EAST_LONGITUDE: -106 52 30.00000
NORTH_LATITUDE: 47 18 45.00000
SOUTH_LATITUDE: 47 15 0.00000
PRODUCTION_DATE: 2000 11 16
RASTER_ORDER: LEFT_RIGHT/TOP_BOTTOM
BAND_ORGANIZATION: SINGLE FILE
BAND_CONTENT: BLACK&WHITE
BAND_CONTENT: UNDEFINED
BAND_CONTENT: UNDEFINED
BITS_PER_PIXEL: 8
SAMPLES_AND_LINES: 5547 7665
HORIZONTAL_DATUM: NAD83
HORIZONTAL_COORDINATE_SYSTEM: UTM
COORDINATE_ZONE: 13
HORIZONTAL_UNITS: METERS
HORIZONTAL_RESOLUTION: 1.00000
SECONDARY_HORIZONTAL_DATUM: NAD27
XY_ORIGIN: 353042.00000 5242014.00000
SECONDARY_XY_ORIGIN: 353084.58700 5241794.12000
NATION: US
NATION: "SCIENCE
STATE: MT
NW_QUAD_CORNER_XY: 353563.70900 5241712.34900
NE_QUAD_CORNER_XY: 358287.32400 5241596.78600
SE_QUAD_CORNERY_XY: 358120.27600 5234651.33700
SW_QUAD_CORNER_XY: 353391.08900 5234766.91900
SECONDARY_NW_QUAD_XY: 353559.16600 5241493.73900
SECONDARY_NE_QUAD_XY: 358282.92700 5241378.17300
SECONDARY_SE_QUAD_XY: 358115.88000 5234432.74800
SECONDARY_SW_QUAD_XY: 353386.54700 5234548.33400
RMSE_XY: 0.80000
IMAGE_SOURCE: BLACK AND WHITE FILM
SOURCE_IMAGE_ID: NAPP 10764 022
SOURCE_IMAGE_DATE: 1997 09 20
SOURCE_IMAGE_ID: NAPP 10764 014
SOURCE_IMAGE_DATE: 1997 09 20
SOURCE_DEM_DATE: 1963 00 00
AGENCY: WESTERN MAPPING CENTER (WMC)
PRODUCER: UNDEFINED
PRODUCTION_SYSTEM: GIS/MAGIC
COMPRESSION: UNDEFINED
STANDARD_VERSION: 1996 12
METADATA_DATE: 2000 11 17
DATA_FILE_SIZE: 42523302
BYTE_COUNT: 5547
