FILENAME: O4710642.SES.1112288.tif
QUADRANGLE_NAME: JORDAN SE
QUADRANT: SE
WEST_LONGITUDE: -106 48 45.00000
EAST_LONGITUDE: -106 45 0.00000
NORTH_LATITUDE: 47 18 45.00000
SOUTH_LATITUDE: 47 15 0.00000
PRODUCTION_DATE: 2000 11 13
RASTER_ORDER: LEFT_RIGHT/TOP_BOTTOM
BAND_ORGANIZATION: SINGLE FILE
BAND_CONTENT: BLACK&WHITE
BAND_CONTENT: UNDEFINED
BAND_CONTENT: UNDEFINED
BITS_PER_PIXEL: 8
SAMPLES_AND_LINES: 5535 7658
HORIZONTAL_DATUM: NAD83
HORIZONTAL_COORDINATE_SYSTEM: UTM
COORDINATE_ZONE: 13
HORIZONTAL_UNITS: METERS
HORIZONTAL_RESOLUTION: 1.00000
SECONDARY_HORIZONTAL_DATUM: NAD27
XY_ORIGIN: 362501.00000 5241787.00000
SECONDARY_XY_ORIGIN: 362543.32400 5241567.28100
NATION: US
NATION: "SCIENCE
STATE: MT
NW_QUAD_CORNER_XY: 363010.95200 5241485.01500
NE_QUAD_CORNER_XY: 367734.59300 5241377.03500
SE_QUAD_CORNERY_XY: 367578.68900 5234431.54800
SW_QUAD_CORNER_XY: 362849.47600 5234539.54700
SECONDARY_NW_QUAD_XY: 363006.70200 5241266.39900
SECONDARY_NE_QUAD_XY: 367730.49000 5241158.41500
SECONDARY_SE_QUAD_XY: 367574.58600 5234212.95300
SECONDARY_SW_QUAD_XY: 362845.22700 5234320.95500
RMSE_XY: 2.50000
IMAGE_SOURCE: BLACK AND WHITE FILM
SOURCE_IMAGE_ID: NAPP 9109 037
SOURCE_IMAGE_DATE: 1996 08 11
SOURCE_IMAGE_ID: NAPP 9109 038
SOURCE_IMAGE_DATE: 1996 08 11
SOURCE_DEM_DATE: 1993 00 00
AGENCY: WESTERN MAPPING CENTER (WMC)
PRODUCER: UNDEFINED
PRODUCTION_SYSTEM: GIS/MAGIC
COMPRESSION: UNDEFINED
STANDARD_VERSION: 1996 12
METADATA_DATE: 2000 11 17
DATA_FILE_SIZE: 42392565
BYTE_COUNT: 5535
