FILENAME: O4710642.NWS.1112287.tif
QUADRANGLE_NAME: JORDAN SE
QUADRANT: NW
WEST_LONGITUDE: -106 52 30.00000
EAST_LONGITUDE: -106 48 45.00000
NORTH_LATITUDE: 47 22 30.00000
SOUTH_LATITUDE: 47 18 45.00000
PRODUCTION_DATE: 2000 11 13
RASTER_ORDER: LEFT_RIGHT/TOP_BOTTOM
BAND_ORGANIZATION: SINGLE FILE
BAND_CONTENT: BLACK&WHITE
BAND_CONTENT: UNDEFINED
BAND_CONTENT: UNDEFINED
BITS_PER_PIXEL: 8
SAMPLES_AND_LINES: 5535 7661
HORIZONTAL_DATUM: NAD83
HORIZONTAL_COORDINATE_SYSTEM: UTM
COORDINATE_ZONE: 13
HORIZONTAL_UNITS: METERS
HORIZONTAL_RESOLUTION: 1.00000
SECONDARY_HORIZONTAL_DATUM: NAD27
XY_ORIGIN: 357939.00000 5248844.00000
SECONDARY_XY_ORIGIN: 357981.46200 5248624.07200
NATION: US
NATION: "SCIENCE
STATE: MT
NW_QUAD_CORNER_XY: 358454.54100 5248542.30400
NE_QUAD_CORNER_XY: 363172.59200 5248430.55200
SE_QUAD_CORNERY_XY: 363010.95200 5241485.01500
SW_QUAD_CORNER_XY: 358287.32400 5241596.78600
SECONDARY_NW_QUAD_XY: 358450.14400 5248323.66700
SECONDARY_NE_QUAD_XY: 363168.34200 5248211.91200
SECONDARY_SE_QUAD_XY: 363006.70200 5241266.39900
SECONDARY_SW_QUAD_XY: 358282.92700 5241378.17300
RMSE_XY: 1.00000
IMAGE_SOURCE: BLACK AND WHITE FILM
SOURCE_IMAGE_ID: NAPP 10764 017
SOURCE_IMAGE_DATE: 1997 09 20
SOURCE_IMAGE_ID: NAPP 10764 018
SOURCE_IMAGE_DATE: 1997 09 20
SOURCE_DEM_DATE: 1993 00 00
AGENCY: WESTERN MAPPING CENTER (WMC)
PRODUCER: UNDEFINED
PRODUCTION_SYSTEM: GIS/MAGIC
COMPRESSION: UNDEFINED
STANDARD_VERSION: 1996 12
METADATA_DATE: 2000 11 17
DATA_FILE_SIZE: 42409170
BYTE_COUNT: 5535
