FILENAME: O4710645.NWS.1112400.tif
QUADRANGLE_NAME: MAXWELL COULEE
QUADRANT: NW
WEST_LONGITUDE: -106 30 0.00000
EAST_LONGITUDE: -106 26 15.00000
NORTH_LATITUDE: 47 22 30.00000
SOUTH_LATITUDE: 47 18 45.00000
PRODUCTION_DATE: 2000 11 13
RASTER_ORDER: LEFT_RIGHT/TOP_BOTTOM
BAND_ORGANIZATION: SINGLE FILE
BAND_CONTENT: BLACK&WHITE
BAND_CONTENT: UNDEFINED
BAND_CONTENT: UNDEFINED
BITS_PER_PIXEL: 8
SAMPLES_AND_LINES: 5500 7639
HORIZONTAL_DATUM: NAD83
HORIZONTAL_COORDINATE_SYSTEM: UTM
COORDINATE_ZONE: 13
HORIZONTAL_UNITS: METERS
HORIZONTAL_RESOLUTION: 1.00000
SECONDARY_HORIZONTAL_DATUM: NAD27
XY_ORIGIN: 386283.00000 5248230.00000
SECONDARY_XY_ORIGIN: 386324.59700 5248010.59800
NATION: US
NATION: "SCIENCE
STATE: MT
NW_QUAD_CORNER_XY: 386763.03900 5247928.64600
NE_QUAD_CORNER_XY: 391481.16300 5247839.63300
SE_QUAD_CORNERY_XY: 391352.97900 5240893.99200
SW_QUAD_CORNER_XY: 386629.28000 5240983.02000
SECONDARY_NW_QUAD_XY: 386759.52100 5247709.99000
SECONDARY_NE_QUAD_XY: 391477.79200 5247620.97500
SECONDARY_SE_QUAD_XY: 391349.60900 5240675.35700
SECONDARY_SW_QUAD_XY: 386625.76300 5240764.38800
RMSE_XY: 1.50000
IMAGE_SOURCE: BLACK AND WHITE FILM
SOURCE_IMAGE_ID: NAPP 9109 148
SOURCE_IMAGE_DATE: 1996 08 11
SOURCE_DEM_DATE: 1993 00 00
AGENCY: WESTERN MAPPING CENTER (WMC)
PRODUCER: UNDEFINED
PRODUCTION_SYSTEM: GIS/MAGIC
COMPRESSION: UNDEFINED
STANDARD_VERSION: 1996 12
METADATA_DATE: 2000 11 16
DATA_FILE_SIZE: 42020000
BYTE_COUNT: 5500
