FILENAME: O4710645.NES.1112399.tif
QUADRANGLE_NAME: MAXWELL COULEE
QUADRANT: NE
WEST_LONGITUDE: -106 26 15.00000
EAST_LONGITUDE: -106 22 30.00000
NORTH_LATITUDE: 47 22 30.00000
SOUTH_LATITUDE: 47 18 45.00000
PRODUCTION_DATE: 2000 11 13
RASTER_ORDER: LEFT_RIGHT/TOP_BOTTOM
BAND_ORGANIZATION: SINGLE FILE
BAND_CONTENT: BLACK&WHITE
BAND_CONTENT: UNDEFINED
BAND_CONTENT: UNDEFINED
BITS_PER_PIXEL: 8
SAMPLES_AND_LINES: 5494 7635
HORIZONTAL_DATUM: NAD83
HORIZONTAL_COORDINATE_SYSTEM: UTM
COORDINATE_ZONE: 13
HORIZONTAL_UNITS: METERS
HORIZONTAL_RESOLUTION: 1.00000
SECONDARY_HORIZONTAL_DATUM: NAD27
XY_ORIGIN: 391007.00000 5248141.00000
SECONDARY_XY_ORIGIN: 391048.53800 5247921.64700
NATION: US
NATION: "SCIENCE
STATE: MT
NW_QUAD_CORNER_XY: 391481.16300 5247839.63300
NE_QUAD_CORNER_XY: 396199.29800 5247754.41000
SE_QUAD_CORNERY_XY: 396076.68900 5240808.75400
SW_QUAD_CORNER_XY: 391352.97900 5240893.99200
SECONDARY_NW_QUAD_XY: 391477.79200 5247620.97500
SECONDARY_NE_QUAD_XY: 396196.07300 5247535.74900
SECONDARY_SE_QUAD_XY: 396073.46500 5240590.11600
SECONDARY_SW_QUAD_XY: 391349.60900 5240675.35700
RMSE_XY: 2.10000
IMAGE_SOURCE: BLACK AND WHITE FILM
SOURCE_IMAGE_ID: NAPP 9109 163
SOURCE_IMAGE_DATE: 1996 08 11
SOURCE_DEM_DATE: 1993 00 00
AGENCY: WESTERN MAPPING CENTER (WMC)
PRODUCER: UNDEFINED
PRODUCTION_SYSTEM: GIS/MAGIC
COMPRESSION: UNDEFINED
STANDARD_VERSION: 1996 12
METADATA_DATE: 2000 11 16
DATA_FILE_SIZE: 41952184
BYTE_COUNT: 5494
