FILENAME: O4710646.SWS.1112446.tif
QUADRANGLE_NAME: COAL CREEK
QUADRANT: SW
WEST_LONGITUDE: -106 22 30.00000
EAST_LONGITUDE: -106 18 45.00000
NORTH_LATITUDE: 47 18 45.00000
SOUTH_LATITUDE: 47 15 0.00000
PRODUCTION_DATE: 2000 11 13
RASTER_ORDER: LEFT_RIGHT/TOP_BOTTOM
BAND_ORGANIZATION: SINGLE FILE
BAND_CONTENT: BLACK&WHITE
BAND_CONTENT: UNDEFINED
BAND_CONTENT: UNDEFINED
BITS_PER_PIXEL: 8
SAMPLES_AND_LINES: 5494 7631
HORIZONTAL_DATUM: NAD83
HORIZONTAL_COORDINATE_SYSTEM: UTM
COORDINATE_ZONE: 13
HORIZONTAL_UNITS: METERS
HORIZONTAL_RESOLUTION: 1.00000
SECONDARY_HORIZONTAL_DATUM: NAD27
XY_ORIGIN: 395608.00000 5241110.00000
SECONDARY_XY_ORIGIN: 395649.54500 5240890.82400
NATION: US
NATION: "SCIENCE
STATE: MT
NW_QUAD_CORNER_XY: 396076.68900 5240808.75400
NE_QUAD_CORNER_XY: 400800.40900 5240727.30500
SE_QUAD_CORNERY_XY: 400683.49400 5233781.70700
SW_QUAD_CORNER_XY: 395954.20600 5233863.16900
SECONDARY_NW_QUAD_XY: 396073.46500 5240590.11600
SECONDARY_NE_QUAD_XY: 400797.33200 5240508.66500
SECONDARY_SE_QUAD_XY: 400680.41700 5233563.09100
SECONDARY_SW_QUAD_XY: 395950.98200 5233644.55600
RMSE_XY: 2.00000
IMAGE_SOURCE: BLACK AND WHITE FILM
SOURCE_IMAGE_ID: NAPP 9106 179
SOURCE_IMAGE_DATE: 1996 08 07
SOURCE_IMAGE_ID: NAPP 9109 159
SOURCE_IMAGE_DATE: 1996 08 11
SOURCE_IMAGE_ID: NAPP 9109 162
SOURCE_IMAGE_DATE: 1996 08 11
SOURCE_IMAGE_ID: NAPP 9106 180
SOURCE_IMAGE_DATE: 1996 08 07
SOURCE_DEM_DATE: 1993 00 00
AGENCY: WESTERN MAPPING CENTER (WMC)
PRODUCER: UNDEFINED
PRODUCTION_SYSTEM: GIS/MAGIC
COMPRESSION: UNDEFINED
STANDARD_VERSION: 1996 12
METADATA_DATE: 2000 11 16
DATA_FILE_SIZE: 41930208
BYTE_COUNT: 5494
