FILENAME: O4710647.SES.1112481.tif
QUADRANGLE_NAME: FLOWING WELL
QUADRANT: SE
WEST_LONGITUDE: -106 11 15.00000
EAST_LONGITUDE: -106 7 30.00000
NORTH_LATITUDE: 47 18 45.00000
SOUTH_LATITUDE: 47 15 0.00000
PRODUCTION_DATE: 2000 11 14
RASTER_ORDER: LEFT_RIGHT/TOP_BOTTOM
BAND_ORGANIZATION: SINGLE FILE
BAND_CONTENT: BLACK&WHITE
BAND_CONTENT: UNDEFINED
BAND_CONTENT: UNDEFINED
BITS_PER_PIXEL: 8
SAMPLES_AND_LINES: 5477 7619
HORIZONTAL_DATUM: NAD83
HORIZONTAL_COORDINATE_SYSTEM: UTM
COORDINATE_ZONE: 13
HORIZONTAL_UNITS: METERS
HORIZONTAL_RESOLUTION: 1.00000
SECONDARY_HORIZONTAL_DATUM: NAD27
XY_ORIGIN: 409796.00000 5240877.00000
SECONDARY_XY_ORIGIN: 409837.41700 5240657.82100
NATION: US
NATION: "SCIENCE
STATE: MT
NW_QUAD_CORNER_XY: 410247.87600 5240575.77600
NE_QUAD_CORNER_XY: 414971.62300 5240505.69500
SE_QUAD_CORNERY_XY: 414871.41400 5233560.05900
SW_QUAD_CORNER_XY: 410142.09900 5233630.15200
SECONDARY_NW_QUAD_XY: 410245.09200 5240357.13100
SECONDARY_NE_QUAD_XY: 414968.98500 5240287.04800
SECONDARY_SE_QUAD_XY: 414868.77700 5233341.43600
SECONDARY_SW_QUAD_XY: 410139.31500 5233411.53100
RMSE_XY: 1.50000
IMAGE_SOURCE: BLACK AND WHITE FILM
SOURCE_IMAGE_ID: NAPP 9121 020
SOURCE_IMAGE_DATE: 1996 09 06
SOURCE_IMAGE_ID: NAPP 9121 021
SOURCE_IMAGE_DATE: 1996 09 06
SOURCE_IMAGE_ID: NAPP 9121 022
SOURCE_IMAGE_DATE: 1996 09 06
SOURCE_DEM_DATE: 1993 00 00
AGENCY: WESTERN MAPPING CENTER (WMC)
PRODUCER: UNDEFINED
PRODUCTION_SYSTEM: GIS/MAGIC
COMPRESSION: UNDEFINED
STANDARD_VERSION: 1996 12
METADATA_DATE: 2000 11 16
DATA_FILE_SIZE: 41734740
BYTE_COUNT: 5477
