FILENAME: O4710648.SWS.1112582.tif
QUADRANGLE_NAME: CEMETERY COULEE
QUADRANT: SW
WEST_LONGITUDE: -106 7 30.00000
EAST_LONGITUDE: -106 3 45.00000
NORTH_LATITUDE: 47 18 45.00000
SOUTH_LATITUDE: 47 15 0.00000
PRODUCTION_DATE: 2000 11 14
RASTER_ORDER: LEFT_RIGHT/TOP_BOTTOM
BAND_ORGANIZATION: SINGLE FILE
BAND_CONTENT: BLACK&WHITE
BAND_CONTENT: UNDEFINED
BAND_CONTENT: UNDEFINED
BITS_PER_PIXEL: 8
SAMPLES_AND_LINES: 5471 7616
HORIZONTAL_DATUM: NAD83
HORIZONTAL_COORDINATE_SYSTEM: UTM
COORDINATE_ZONE: 13
HORIZONTAL_UNITS: METERS
HORIZONTAL_RESOLUTION: 1.00000
SECONDARY_HORIZONTAL_DATUM: NAD27
XY_ORIGIN: 414526.00000 5240807.00000
SECONDARY_XY_ORIGIN: 414567.35000 5240587.74100
NATION: US
NATION: "SCIENCE
STATE: MT
NW_QUAD_CORNER_XY: 414971.62300 5240505.69500
NE_QUAD_CORNER_XY: 419695.37700 5240439.40300
SE_QUAD_CORNERY_XY: 419600.73700 5233493.75600
SW_QUAD_CORNER_XY: 414871.41400 5233560.05900
SECONDARY_NW_QUAD_XY: 414968.98500 5240287.04800
SECONDARY_NE_QUAD_XY: 419692.88600 5240220.75400
SECONDARY_SE_QUAD_XY: 419598.24600 5233275.13100
SECONDARY_SW_QUAD_XY: 414868.77700 5233341.43600
RMSE_XY: 2.30000
IMAGE_SOURCE: BLACK AND WHITE FILM
SOURCE_IMAGE_ID: NAPP 9090 031
SOURCE_IMAGE_DATE: 1996 07 07
SOURCE_DEM_DATE: 1993 00 00
AGENCY: WESTERN MAPPING CENTER (WMC)
PRODUCER: UNDEFINED
PRODUCTION_SYSTEM: GIS/MAGIC
COMPRESSION: UNDEFINED
STANDARD_VERSION: 1996 12
METADATA_DATE: 2000 11 16
DATA_FILE_SIZE: 41672607
BYTE_COUNT: 5471
