FILENAME: O4710648.SES.1112581.tif
QUADRANGLE_NAME: CEMETERY COULEE
QUADRANT: SE
WEST_LONGITUDE: -106 3 45.00000
EAST_LONGITUDE: -106 0 0.00000
NORTH_LATITUDE: 47 18 45.00000
SOUTH_LATITUDE: 47 15 0.00000
PRODUCTION_DATE: 2000 11 14
RASTER_ORDER: LEFT_RIGHT/TOP_BOTTOM
BAND_ORGANIZATION: SINGLE FILE
BAND_CONTENT: BLACK&WHITE
BAND_CONTENT: UNDEFINED
BAND_CONTENT: UNDEFINED
BITS_PER_PIXEL: 8
SAMPLES_AND_LINES: 5466 7612
HORIZONTAL_DATUM: NAD83
HORIZONTAL_COORDINATE_SYSTEM: UTM
COORDINATE_ZONE: 13
HORIZONTAL_UNITS: METERS
HORIZONTAL_RESOLUTION: 1.00000
SECONDARY_HORIZONTAL_DATUM: NAD27
XY_ORIGIN: 419255.00000 5240741.00000
SECONDARY_XY_ORIGIN: 419296.28200 5240521.66100
NATION: US
NATION: "SCIENCE
STATE: MT
NW_QUAD_CORNER_XY: 419695.37700 5240439.40300
NE_QUAD_CORNER_XY: 424419.13900 5240376.90000
SE_QUAD_CORNERY_XY: 424330.06700 5233431.24200
SW_QUAD_CORNER_XY: 419600.73700 5233493.75600
SECONDARY_NW_QUAD_XY: 419692.88600 5240220.75400
SECONDARY_NE_QUAD_XY: 424416.79500 5240158.24900
SECONDARY_SE_QUAD_XY: 424327.72300 5233212.61600
SECONDARY_SW_QUAD_XY: 419598.24600 5233275.13100
RMSE_XY: 1.90000
IMAGE_SOURCE: BLACK AND WHITE FILM
SOURCE_IMAGE_ID: NAPP 9089 076
SOURCE_IMAGE_DATE: 1996 07 07
SOURCE_DEM_DATE: 1993 00 00
AGENCY: WESTERN MAPPING CENTER (WMC)
PRODUCER: UNDEFINED
PRODUCTION_SYSTEM: GIS/MAGIC
COMPRESSION: UNDEFINED
STANDARD_VERSION: 1996 12
METADATA_DATE: 2000 11 16
DATA_FILE_SIZE: 41612658
BYTE_COUNT: 5466
