FILENAME: O4710648.NWS.1112580.tif
QUADRANGLE_NAME: CEMETERY COULEE
QUADRANT: NW
WEST_LONGITUDE: -106 7 30.00000
EAST_LONGITUDE: -106 3 45.00000
NORTH_LATITUDE: 47 22 30.00000
SOUTH_LATITUDE: 47 18 45.00000
PRODUCTION_DATE: 2000 11 14
RASTER_ORDER: LEFT_RIGHT/TOP_BOTTOM
BAND_ORGANIZATION: SINGLE FILE
BAND_CONTENT: BLACK&WHITE
BAND_CONTENT: UNDEFINED
BAND_CONTENT: UNDEFINED
BITS_PER_PIXEL: 8
SAMPLES_AND_LINES: 5466 7616
HORIZONTAL_DATUM: NAD83
HORIZONTAL_COORDINATE_SYSTEM: UTM
COORDINATE_ZONE: 13
HORIZONTAL_UNITS: METERS
HORIZONTAL_RESOLUTION: 1.00000
SECONDARY_HORIZONTAL_DATUM: NAD27
XY_ORIGIN: 414626.00000 5247753.00000
SECONDARY_XY_ORIGIN: 414667.22800 5247533.66000
NATION: US
NATION: "SCIENCE
STATE: MT
NW_QUAD_CORNER_XY: 415071.93300 5247451.40400
NE_QUAD_CORNER_XY: 419790.11300 5247385.12400
SE_QUAD_CORNERY_XY: 419695.37700 5240439.40300
SW_QUAD_CORNER_XY: 414971.62300 5240505.69500
SECONDARY_NW_QUAD_XY: 415069.29500 5247232.73400
SECONDARY_NE_QUAD_XY: 419787.62200 5247166.45200
SECONDARY_SE_QUAD_XY: 419692.88600 5240220.75400
SECONDARY_SW_QUAD_XY: 414968.98500 5240287.04800
RMSE_XY: 2.00000
IMAGE_SOURCE: BLACK AND WHITE FILM
SOURCE_IMAGE_ID: NAPP 9090 029
SOURCE_IMAGE_DATE: 1996 07 07
SOURCE_DEM_DATE: 1993 00 00
AGENCY: WESTERN MAPPING CENTER (WMC)
PRODUCER: UNDEFINED
PRODUCTION_SYSTEM: GIS/MAGIC
COMPRESSION: UNDEFINED
STANDARD_VERSION: 1996 12
METADATA_DATE: 2000 11 16
DATA_FILE_SIZE: 41634522
BYTE_COUNT: 5466
