FILENAME: O4710649.SWS.1112237.tif
QUADRANGLE_NAME: DARBY BUTTES
QUADRANT: SW
WEST_LONGITUDE: -107 0 0.00000
EAST_LONGITUDE: -106 56 15.00000
NORTH_LATITUDE: 47 11 15.00000
SOUTH_LATITUDE: 47 7 30.00000
PRODUCTION_DATE: 2000 11 16
RASTER_ORDER: LEFT_RIGHT/TOP_BOTTOM
BAND_ORGANIZATION: SINGLE FILE
BAND_CONTENT: BLACK&WHITE
BAND_CONTENT: UNDEFINED
BAND_CONTENT: UNDEFINED
BITS_PER_PIXEL: 8
SAMPLES_AND_LINES: 5563 7669
HORIZONTAL_DATUM: NAD83
HORIZONTAL_COORDINATE_SYSTEM: UTM
COORDINATE_ZONE: 13
HORIZONTAL_UNITS: METERS
HORIZONTAL_RESOLUTION: 1.00000
SECONDARY_HORIZONTAL_DATUM: NAD27
XY_ORIGIN: 347957.00000 5228243.00000
SECONDARY_XY_ORIGIN: 347999.70200 5228023.26600
NATION: US
NATION: "SCIENCE
STATE: MT
NW_QUAD_CORNER_XY: 348483.90500 5227940.95200
NE_QUAD_CORNER_XY: 353218.64500 5227821.55700
SE_QUAD_CORNERY_XY: 353046.37700 5220876.26300
SW_QUAD_CORNER_XY: 348306.07600 5220995.67700
SECONDARY_NW_QUAD_XY: 348479.21700 5227722.39600
SECONDARY_NE_QUAD_XY: 353214.10300 5227602.99800
SECONDARY_SE_QUAD_XY: 353041.83600 5220657.72900
SECONDARY_SW_QUAD_XY: 348301.38800 5220777.14700
RMSE_XY: 1.70000
IMAGE_SOURCE: BLACK AND WHITE FILM
SOURCE_IMAGE_ID: NAPP 10764 087
SOURCE_IMAGE_DATE: 1997 09 20
SOURCE_IMAGE_ID: NAPP 10764 025
SOURCE_IMAGE_DATE: 1997 09 20
SOURCE_DEM_DATE: 1964 00 00
AGENCY: WESTERN MAPPING CENTER (WMC)
PRODUCER: UNDEFINED
PRODUCTION_SYSTEM: GIS/MAGIC
COMPRESSION: UNDEFINED
STANDARD_VERSION: 1996 12
METADATA_DATE: 2000 11 17
DATA_FILE_SIZE: 42668210
BYTE_COUNT: 5563
