FILENAME: O4710649.NWS.1112235.tif
QUADRANGLE_NAME: DARBY BUTTES
QUADRANT: NW
WEST_LONGITUDE: -107 0 0.00000
EAST_LONGITUDE: -106 56 15.00000
NORTH_LATITUDE: 47 15 0.00000
SOUTH_LATITUDE: 47 11 15.00000
PRODUCTION_DATE: 2000 11 16
RASTER_ORDER: LEFT_RIGHT/TOP_BOTTOM
BAND_ORGANIZATION: SINGLE FILE
BAND_CONTENT: BLACK&WHITE
BAND_CONTENT: UNDEFINED
BAND_CONTENT: UNDEFINED
BITS_PER_PIXEL: 8
SAMPLES_AND_LINES: 5558 7669
HORIZONTAL_DATUM: NAD83
HORIZONTAL_COORDINATE_SYSTEM: UTM
COORDINATE_ZONE: 13
HORIZONTAL_UNITS: METERS
HORIZONTAL_RESOLUTION: 1.00000
SECONDARY_HORIZONTAL_DATUM: NAD27
XY_ORIGIN: 348135.00000 5235188.00000
SECONDARY_XY_ORIGIN: 348177.71300 5234968.17100
NATION: US
NATION: "SCIENCE
STATE: MT
NW_QUAD_CORNER_XY: 348661.91600 5234886.29400
NE_QUAD_CORNER_XY: 353391.08900 5234766.91900
SE_QUAD_CORNERY_XY: 353218.64500 5227821.55700
SW_QUAD_CORNER_XY: 348483.90500 5227940.95200
SECONDARY_NW_QUAD_XY: 348657.22700 5234667.71300
SECONDARY_NE_QUAD_XY: 353386.54700 5234548.33400
SECONDARY_SE_QUAD_XY: 353214.10300 5227602.99800
SECONDARY_SW_QUAD_XY: 348479.21700 5227722.39600
RMSE_XY: 1.40000
IMAGE_SOURCE: BLACK AND WHITE FILM
SOURCE_IMAGE_ID: NAPP 10764 085
SOURCE_IMAGE_DATE: 1997 09 20
SOURCE_IMAGE_ID: NAPP 10764 025
SOURCE_IMAGE_DATE: 1997 09 20
SOURCE_DEM_DATE: 1964 00 00
AGENCY: WESTERN MAPPING CENTER (WMC)
PRODUCER: UNDEFINED
PRODUCTION_SYSTEM: GIS/MAGIC
COMPRESSION: UNDEFINED
STANDARD_VERSION: 1996 12
METADATA_DATE: 2000 11 17
DATA_FILE_SIZE: 42629860
BYTE_COUNT: 5558
