FILENAME: O4710649.NES.1112234.tif
QUADRANGLE_NAME: DARBY BUTTES
QUADRANT: NE
WEST_LONGITUDE: -106 56 15.00000
EAST_LONGITUDE: -106 52 30.00000
NORTH_LATITUDE: 47 15 0.00000
SOUTH_LATITUDE: 47 11 15.00000
PRODUCTION_DATE: 2000 11 16
RASTER_ORDER: LEFT_RIGHT/TOP_BOTTOM
BAND_ORGANIZATION: SINGLE FILE
BAND_CONTENT: BLACK&WHITE
BAND_CONTENT: UNDEFINED
BAND_CONTENT: UNDEFINED
BITS_PER_PIXEL: 8
SAMPLES_AND_LINES: 5552 7666
HORIZONTAL_DATUM: NAD83
HORIZONTAL_COORDINATE_SYSTEM: UTM
COORDINATE_ZONE: 13
HORIZONTAL_UNITS: METERS
HORIZONTAL_RESOLUTION: 1.00000
SECONDARY_HORIZONTAL_DATUM: NAD27
XY_ORIGIN: 352870.00000 5235069.00000
SECONDARY_XY_ORIGIN: 352912.58100 5234849.25500
NATION: US
NATION: "SCIENCE
STATE: MT
NW_QUAD_CORNER_XY: 353391.08900 5234766.91900
NE_QUAD_CORNER_XY: 358120.27600 5234651.33700
SE_QUAD_CORNERY_XY: 357953.39800 5227705.95600
SW_QUAD_CORNER_XY: 353218.64500 5227821.55700
SECONDARY_NW_QUAD_XY: 353386.54700 5234548.33400
SECONDARY_NE_QUAD_XY: 358115.88000 5234432.74800
SECONDARY_SE_QUAD_XY: 357949.00300 5227487.39200
SECONDARY_SW_QUAD_XY: 353214.10300 5227602.99800
RMSE_XY: 1.30000
IMAGE_SOURCE: BLACK AND WHITE FILM
SOURCE_IMAGE_ID: NAPP 10764 024
SOURCE_IMAGE_DATE: 1997 09 20
SOURCE_IMAGE_ID: NAPP 10764 025
SOURCE_IMAGE_DATE: 1997 09 20
SOURCE_IMAGE_ID: NAPP 10764 014
SOURCE_IMAGE_DATE: 1997 09 20
SOURCE_DEM_DATE: 1964 00 00
AGENCY: WESTERN MAPPING CENTER (WMC)
PRODUCER: UNDEFINED
PRODUCTION_SYSTEM: GIS/MAGIC
COMPRESSION: UNDEFINED
STANDARD_VERSION: 1996 12
METADATA_DATE: 2000 11 17
DATA_FILE_SIZE: 42567184
BYTE_COUNT: 5552
