FILENAME: O4710651.SWS.1112309.tif
QUADRANGLE_NAME: YORK RESERVOIR
QUADRANT: SW
WEST_LONGITUDE: -106 45 0.00000
EAST_LONGITUDE: -106 41 15.00000
NORTH_LATITUDE: 47 11 15.00000
SOUTH_LATITUDE: 47 7 30.00000
PRODUCTION_DATE: 2000 11 17
RASTER_ORDER: LEFT_RIGHT/TOP_BOTTOM
BAND_ORGANIZATION: SINGLE FILE
BAND_CONTENT: BLACK&WHITE
BAND_CONTENT: UNDEFINED
BAND_CONTENT: UNDEFINED
BITS_PER_PIXEL: 8
SAMPLES_AND_LINES: 5539 7654
HORIZONTAL_DATUM: NAD83
HORIZONTAL_COORDINATE_SYSTEM: UTM
COORDINATE_ZONE: 13
HORIZONTAL_UNITS: METERS
HORIZONTAL_RESOLUTION: 1.00000
SECONDARY_HORIZONTAL_DATUM: NAD27
XY_ORIGIN: 366920.00000 5227788.00000
SECONDARY_XY_ORIGIN: 366962.17700 5227568.53500
NATION: US
NATION: "SCIENCE
STATE: MT
NW_QUAD_CORNER_XY: 367422.94200 5227486.13000
NE_QUAD_CORNER_XY: 372157.73300 5227381.90500
SE_QUAD_CORNERY_XY: 372007.70500 5220436.53900
SW_QUAD_CORNER_XY: 367267.35500 5220540.78100
SECONDARY_NW_QUAD_XY: 367418.84000 5227267.56000
SECONDARY_NE_QUAD_XY: 372153.77700 5227163.33200
SECONDARY_SE_QUAD_XY: 372003.75000 5220217.99300
SECONDARY_SW_QUAD_XY: 367263.25400 5220322.23700
RMSE_XY: 1.60000
IMAGE_SOURCE: BLACK AND WHITE FILM
SOURCE_IMAGE_ID: NAPP 9111 218
SOURCE_IMAGE_DATE: 1996 08 11
SOURCE_IMAGE_ID: NAPP 9109 034
SOURCE_IMAGE_DATE: 1996 08 11
SOURCE_IMAGE_ID: NAPP 9111 217
SOURCE_IMAGE_DATE: 1996 08 11
SOURCE_DEM_DATE: 1993 00 00
AGENCY: WESTERN MAPPING CENTER (WMC)
PRODUCER: UNDEFINED
PRODUCTION_SYSTEM: GIS/MAGIC
COMPRESSION: UNDEFINED
STANDARD_VERSION: 1996 12
METADATA_DATE: 2000 11 17
DATA_FILE_SIZE: 42401045
BYTE_COUNT: 5539
