FILENAME: O4710656.SWS.1112586.tif
QUADRANGLE_NAME: HEDSTROM LAKE
QUADRANT: SW
WEST_LONGITUDE: -106 7 30.00000
EAST_LONGITUDE: -106 3 45.00000
NORTH_LATITUDE: 47 11 15.00000
SOUTH_LATITUDE: 47 7 30.00000
PRODUCTION_DATE: 2000 11 14
RASTER_ORDER: LEFT_RIGHT/TOP_BOTTOM
BAND_ORGANIZATION: SINGLE FILE
BAND_CONTENT: BLACK&WHITE
BAND_CONTENT: UNDEFINED
BAND_CONTENT: UNDEFINED
BITS_PER_PIXEL: 8
SAMPLES_AND_LINES: 5482 7616
HORIZONTAL_DATUM: NAD83
HORIZONTAL_COORDINATE_SYSTEM: UTM
COORDINATE_ZONE: 13
HORIZONTAL_UNITS: METERS
HORIZONTAL_RESOLUTION: 1.00000
SECONDARY_HORIZONTAL_DATUM: NAD27
XY_ORIGIN: 414326.00000 5226916.00000
SECONDARY_XY_ORIGIN: 414367.51000 5226696.77100
NATION: US
NATION: "SCIENCE
STATE: MT
NW_QUAD_CORNER_XY: 414771.30800 5226614.49600
NE_QUAD_CORNER_XY: 419506.19300 5226548.18200
SE_QUAD_CORNERY_XY: 419411.74600 5219602.68100
SW_QUAD_CORNER_XY: 414671.30400 5219669.00600
SECONDARY_NW_QUAD_XY: 414768.67100 5226395.89900
SECONDARY_NE_QUAD_XY: 419503.70300 5226329.58300
SECONDARY_SE_QUAD_XY: 419409.25600 5219384.10800
SECONDARY_SW_QUAD_XY: 414668.66700 5219450.43500
RMSE_XY: 2.00000
IMAGE_SOURCE: BLACK AND WHITE FILM
SOURCE_IMAGE_ID: NAPP 9090 035
SOURCE_IMAGE_DATE: 1996 07 07
SOURCE_IMAGE_ID: NAPP 9089 072
SOURCE_IMAGE_DATE: 1996 07 07
SOURCE_DEM_DATE: 1993 00 00
AGENCY: WESTERN MAPPING CENTER (WMC)
PRODUCER: UNDEFINED
PRODUCTION_SYSTEM: GIS/MAGIC
COMPRESSION: UNDEFINED
STANDARD_VERSION: 1996 12
METADATA_DATE: 2000 11 16
DATA_FILE_SIZE: 41756394
BYTE_COUNT: 5482
