FILENAME: O4710656.NES.1112583.tif
QUADRANGLE_NAME: HEDSTROM LAKE
QUADRANT: NE
WEST_LONGITUDE: -106 3 45.00000
EAST_LONGITUDE: -106 0 0.00000
NORTH_LATITUDE: 47 15 0.00000
SOUTH_LATITUDE: 47 11 15.00000
PRODUCTION_DATE: 2000 11 14
RASTER_ORDER: LEFT_RIGHT/TOP_BOTTOM
BAND_ORGANIZATION: SINGLE FILE
BAND_CONTENT: BLACK&WHITE
BAND_CONTENT: UNDEFINED
BAND_CONTENT: UNDEFINED
BITS_PER_PIXEL: 8
SAMPLES_AND_LINES: 5471 7612
HORIZONTAL_DATUM: NAD83
HORIZONTAL_COORDINATE_SYSTEM: UTM
COORDINATE_ZONE: 13
HORIZONTAL_UNITS: METERS
HORIZONTAL_RESOLUTION: 1.00000
SECONDARY_HORIZONTAL_DATUM: NAD27
XY_ORIGIN: 419161.00000 5233795.00000
SECONDARY_XY_ORIGIN: 419202.40600 5233575.73400
NATION: US
NATION: "SCIENCE
STATE: MT
NW_QUAD_CORNER_XY: 419600.73700 5233493.75600
NE_QUAD_CORNER_XY: 424330.06700 5233431.24200
SE_QUAD_CORNERY_XY: 424241.08600 5226485.65800
SW_QUAD_CORNER_XY: 419506.19300 5226548.18200
SECONDARY_NW_QUAD_XY: 419598.24600 5233275.13100
SECONDARY_NE_QUAD_XY: 424327.72300 5233212.61600
SECONDARY_SE_QUAD_XY: 424238.74200 5226267.05700
SECONDARY_SW_QUAD_XY: 419503.70300 5226329.58300
RMSE_XY: 2.00000
IMAGE_SOURCE: BLACK AND WHITE FILM
SOURCE_IMAGE_ID: NAPP 9089 074
SOURCE_IMAGE_DATE: 1996 07 07
SOURCE_IMAGE_ID: NAPP 9089 075
SOURCE_IMAGE_DATE: 1996 07 07
SOURCE_DEM_DATE: 1993 00 00
AGENCY: WESTERN MAPPING CENTER (WMC)
PRODUCER: UNDEFINED
PRODUCTION_SYSTEM: GIS/MAGIC
COMPRESSION: UNDEFINED
STANDARD_VERSION: 1996 12
METADATA_DATE: 2000 11 16
DATA_FILE_SIZE: 41650723
BYTE_COUNT: 5471
