FILENAME: O4710657.NWS.1112239.tif
QUADRANGLE_NAME: DARBY BUTTES SW
QUADRANT: NW
WEST_LONGITUDE: -107 0 0.00000
EAST_LONGITUDE: -106 56 15.00000
NORTH_LATITUDE: 47 7 30.00000
SOUTH_LATITUDE: 47 3 45.00000
PRODUCTION_DATE: 2000 11 16
RASTER_ORDER: LEFT_RIGHT/TOP_BOTTOM
BAND_ORGANIZATION: SINGLE FILE
BAND_CONTENT: BLACK&WHITE
BAND_CONTENT: UNDEFINED
BAND_CONTENT: UNDEFINED
BITS_PER_PIXEL: 8
SAMPLES_AND_LINES: 5568 7668
HORIZONTAL_DATUM: NAD83
HORIZONTAL_COORDINATE_SYSTEM: UTM
COORDINATE_ZONE: 13
HORIZONTAL_UNITS: METERS
HORIZONTAL_RESOLUTION: 1.00000
SECONDARY_HORIZONTAL_DATUM: NAD27
XY_ORIGIN: 347780.00000 5221297.00000
SECONDARY_XY_ORIGIN: 347822.69000 5221077.36200
NATION: US
NATION: "SCIENCE
STATE: MT
NW_QUAD_CORNER_XY: 348306.07600 5220995.67700
NE_QUAD_CORNER_XY: 353046.37700 5220876.26300
SE_QUAD_CORNERY_XY: 352874.28500 5213931.03600
SW_QUAD_CORNER_XY: 348128.42900 5214050.46800
SECONDARY_NW_QUAD_XY: 348301.38800 5220777.14700
SECONDARY_NE_QUAD_XY: 353041.83600 5220657.72900
SECONDARY_SE_QUAD_XY: 352869.74400 5213712.52900
SECONDARY_SW_QUAD_XY: 348123.74100 5213831.96600
RMSE_XY: 1.80000
IMAGE_SOURCE: BLACK AND WHITE FILM
SOURCE_IMAGE_ID: NAPP 9099 079
SOURCE_IMAGE_DATE: 1996 07 14
SOURCE_IMAGE_ID: NAPP 10764 088
SOURCE_IMAGE_DATE: 1997 09 20
SOURCE_IMAGE_ID: NAPP 10764 087
SOURCE_IMAGE_DATE: 1997 09 20
SOURCE_DEM_DATE: 1964 00 00
AGENCY: WESTERN MAPPING CENTER (WMC)
PRODUCER: UNDEFINED
PRODUCTION_SYSTEM: GIS/MAGIC
COMPRESSION: UNDEFINED
STANDARD_VERSION: 1996 12
METADATA_DATE: 2000 11 17
DATA_FILE_SIZE: 42700992
BYTE_COUNT: 5568
