FILENAME: O4710658.SES.1112276.tif
QUADRANGLE_NAME: DICE DAM
QUADRANT: SE
WEST_LONGITUDE: -106 48 45.00000
EAST_LONGITUDE: -106 45 0.00000
NORTH_LATITUDE: 47 3 45.00000
SOUTH_LATITUDE: 47 0 0.00000
PRODUCTION_DATE: 2000 11 13
RASTER_ORDER: LEFT_RIGHT/TOP_BOTTOM
BAND_ORGANIZATION: SINGLE FILE
BAND_CONTENT: BLACK&WHITE
BAND_CONTENT: UNDEFINED
BAND_CONTENT: UNDEFINED
BITS_PER_PIXEL: 8
SAMPLES_AND_LINES: 5556 7657
HORIZONTAL_DATUM: NAD83
HORIZONTAL_COORDINATE_SYSTEM: UTM
COORDINATE_ZONE: 13
HORIZONTAL_UNITS: METERS
HORIZONTAL_RESOLUTION: 1.00000
SECONDARY_HORIZONTAL_DATUM: NAD27
XY_ORIGIN: 361857.00000 5214005.00000
SECONDARY_XY_ORIGIN: 361899.29200 5213785.56200
NATION: US
NATION: "SCIENCE
STATE: MT
NW_QUAD_CORNER_XY: 362366.03500 5213703.55200
NE_QUAD_CORNER_XY: 367111.92700 5213595.50100
SE_QUAD_CORNERY_XY: 366956.65800 5206650.29000
SW_QUAD_CORNER_XY: 362205.21700 5206758.35800
SECONDARY_NW_QUAD_XY: 362361.78700 5213485.03900
SECONDARY_NE_QUAD_XY: 367107.82600 5213376.98400
SECONDARY_SE_QUAD_XY: 366952.55800 5206431.80200
SECONDARY_SW_QUAD_XY: 362200.97000 5206539.87200
RMSE_XY: 1.70000
IMAGE_SOURCE: BLACK AND WHITE FILM
SOURCE_IMAGE_ID: NAPP 9109 029
SOURCE_IMAGE_DATE: 1996 08 11
SOURCE_DEM_DATE: 1964 00 00
AGENCY: WESTERN MAPPING CENTER (WMC)
PRODUCER: UNDEFINED
PRODUCTION_SYSTEM: GIS/MAGIC
COMPRESSION: UNDEFINED
STANDARD_VERSION: 1996 12
METADATA_DATE: 2000 11 17
DATA_FILE_SIZE: 42547848
BYTE_COUNT: 5556
