FILENAME: O4710658.NWS.1112275.tif
QUADRANGLE_NAME: DICE DAM
QUADRANT: NW
WEST_LONGITUDE: -106 52 30.00000
EAST_LONGITUDE: -106 48 45.00000
NORTH_LATITUDE: 47 7 30.00000
SOUTH_LATITUDE: 47 3 45.00000
PRODUCTION_DATE: 2000 11 13
RASTER_ORDER: LEFT_RIGHT/TOP_BOTTOM
BAND_ORGANIZATION: SINGLE FILE
BAND_CONTENT: BLACK&WHITE
BAND_CONTENT: UNDEFINED
BAND_CONTENT: UNDEFINED
BITS_PER_PIXEL: 8
SAMPLES_AND_LINES: 5557 7661
HORIZONTAL_DATUM: NAD83
HORIZONTAL_COORDINATE_SYSTEM: UTM
COORDINATE_ZONE: 13
HORIZONTAL_UNITS: METERS
HORIZONTAL_RESOLUTION: 1.00000
SECONDARY_HORIZONTAL_DATUM: NAD27
XY_ORIGIN: 357272.00000 5221062.00000
SECONDARY_XY_ORIGIN: 357314.43000 5220842.46400
NATION: US
NATION: "SCIENCE
STATE: MT
NW_QUAD_CORNER_XY: 357786.69100 5220760.64200
NE_QUAD_CORNER_XY: 362527.01700 5220648.81500
SE_QUAD_CORNERY_XY: 362366.03500 5213703.55200
SW_QUAD_CORNER_XY: 357620.15400 5213815.39700
SECONDARY_NW_QUAD_XY: 357782.29600 5220542.10500
SECONDARY_NE_QUAD_XY: 362522.76900 5220430.27500
SECONDARY_SE_QUAD_XY: 362361.78700 5213485.03900
SECONDARY_SW_QUAD_XY: 357615.76000 5213596.88700
RMSE_XY: 1.00000
IMAGE_SOURCE: BLACK AND WHITE FILM
SOURCE_IMAGE_ID: NAPP 10764 009
SOURCE_IMAGE_DATE: 1997 09 20
SOURCE_DEM_DATE: 1964 00 00
AGENCY: WESTERN MAPPING CENTER (WMC)
PRODUCER: UNDEFINED
PRODUCTION_SYSTEM: GIS/MAGIC
COMPRESSION: UNDEFINED
STANDARD_VERSION: 1996 12
METADATA_DATE: 2000 11 17
DATA_FILE_SIZE: 42577734
BYTE_COUNT: 5557
