FILENAME: O4710661.NES.1112407.tif
QUADRANGLE_NAME: CALAMITY COULEE
QUADRANT: NE
WEST_LONGITUDE: -106 26 15.00000
EAST_LONGITUDE: -106 22 30.00000
NORTH_LATITUDE: 47 7 30.00000
SOUTH_LATITUDE: 47 3 45.00000
PRODUCTION_DATE: 2000 11 13
RASTER_ORDER: LEFT_RIGHT/TOP_BOTTOM
BAND_ORGANIZATION: SINGLE FILE
BAND_CONTENT: BLACK&WHITE
BAND_CONTENT: UNDEFINED
BAND_CONTENT: UNDEFINED
BITS_PER_PIXEL: 8
SAMPLES_AND_LINES: 5516 7635
HORIZONTAL_DATUM: NAD83
HORIZONTAL_COORDINATE_SYSTEM: UTM
COORDINATE_ZONE: 13
HORIZONTAL_UNITS: METERS
HORIZONTAL_RESOLUTION: 1.00000
SECONDARY_HORIZONTAL_DATUM: NAD27
XY_ORIGIN: 390495.00000 5220359.00000
SECONDARY_XY_ORIGIN: 390536.64700 5220139.80500
NATION: US
NATION: "SCIENCE
STATE: MT
NW_QUAD_CORNER_XY: 390969.21100 5220057.49700
NE_QUAD_CORNER_XY: 395709.61200 5219972.21600
SE_QUAD_CORNERY_XY: 395587.50300 5213026.84700
SW_QUAD_CORNER_XY: 390841.55000 5213112.14100
SECONDARY_NW_QUAD_XY: 390965.84200 5219838.93800
SECONDARY_NE_QUAD_XY: 395706.39000 5219753.65500
SECONDARY_SE_QUAD_XY: 395584.28100 5212808.31300
SECONDARY_SW_QUAD_XY: 390838.18100 5212893.61000
RMSE_XY: 2.10000
IMAGE_SOURCE: BLACK AND WHITE FILM
SOURCE_IMAGE_ID: NAPP 9106 273
SOURCE_IMAGE_DATE: 1996 08 07
SOURCE_IMAGE_ID: NAPP 9106 272
SOURCE_IMAGE_DATE: 1996 08 07
SOURCE_DEM_DATE: 1993 00 00
AGENCY: WESTERN MAPPING CENTER (WMC)
PRODUCER: UNDEFINED
PRODUCTION_SYSTEM: GIS/MAGIC
COMPRESSION: UNDEFINED
STANDARD_VERSION: 1996 12
METADATA_DATE: 2000 11 16
DATA_FILE_SIZE: 42120176
BYTE_COUNT: 5516
