FILENAME: O4710664.NWS.1112572.tif
QUADRANGLE_NAME: HEDSTROM LAKE SE
QUADRANT: NW
WEST_LONGITUDE: -106 7 30.00000
EAST_LONGITUDE: -106 3 45.00000
NORTH_LATITUDE: 47 7 30.00000
SOUTH_LATITUDE: 47 3 45.00000
PRODUCTION_DATE: 2000 11 14
RASTER_ORDER: LEFT_RIGHT/TOP_BOTTOM
BAND_ORGANIZATION: SINGLE FILE
BAND_CONTENT: BLACK&WHITE
BAND_CONTENT: UNDEFINED
BAND_CONTENT: UNDEFINED
BITS_PER_PIXEL: 8
SAMPLES_AND_LINES: 5487 7615
HORIZONTAL_DATUM: NAD83
HORIZONTAL_COORDINATE_SYSTEM: UTM
COORDINATE_ZONE: 13
HORIZONTAL_UNITS: METERS
HORIZONTAL_RESOLUTION: 1.00000
SECONDARY_HORIZONTAL_DATUM: NAD27
XY_ORIGIN: 414226.00000 5219970.00000
SECONDARY_XY_ORIGIN: 414267.54900 5219750.72000
NATION: US
NATION: "SCIENCE
STATE: MT
NW_QUAD_CORNER_XY: 414671.30400 5219669.00600
NE_QUAD_CORNER_XY: 419411.74600 5219602.68100
SE_QUAD_CORNERY_XY: 419317.39600 5212657.25400
SW_QUAD_CORNER_XY: 414571.40200 5212723.58900
SECONDARY_NW_QUAD_XY: 414668.66700 5219450.43500
SECONDARY_NE_QUAD_XY: 419409.25600 5219384.10800
SECONDARY_SE_QUAD_XY: 419314.90600 5212438.70900
SECONDARY_SW_QUAD_XY: 414568.76600 5212505.04600
RMSE_XY: 1.80000
IMAGE_SOURCE: BLACK AND WHITE FILM
SOURCE_IMAGE_ID: NAPP 9090 037
SOURCE_IMAGE_DATE: 1996 07 07
SOURCE_DEM_DATE: 1993 00 00
AGENCY: WESTERN MAPPING CENTER (WMC)
PRODUCER: UNDEFINED
PRODUCTION_SYSTEM: GIS/MAGIC
COMPRESSION: UNDEFINED
STANDARD_VERSION: 1996 12
METADATA_DATE: 2000 11 16
DATA_FILE_SIZE: 41788992
BYTE_COUNT: 5487
