FILENAME: O4710501.SWS.1139234.tif
QUADRANGLE_NAME: TURTLE CREEK
QUADRANT: SW
WEST_LONGITUDE: -106 0 0.00000
EAST_LONGITUDE: -105 56 15.00000
NORTH_LATITUDE: 47 56 15.00000
SOUTH_LATITUDE: 47 52 30.00000
PRODUCTION_DATE: 2001 4 4
RASTER_ORDER: LEFT_RIGHT/TOP_BOTTOM
BAND_ORGANIZATION: SINGLE FILE
BAND_CONTENT: BLACK&WHITE
BAND_CONTENT: UNDEFINED
BAND_CONTENT: UNDEFINED
BITS_PER_PIXEL: 8
SAMPLES_AND_LINES: 5411 7618
HORIZONTAL_DATUM: NAD83
HORIZONTAL_COORDINATE_SYSTEM: UTM
COORDINATE_ZONE: 13
HORIZONTAL_UNITS: meters
HORIZONTAL_RESOLUTION: 1.00000
SECONDARY_HORIZONTAL_DATUM: NAD27
XY_ORIGIN: 424877.00000 5310145.00000
SECONDARY_XY_ORIGIN: 424917.33900 5309923.94300
NATION: US
STATE: MT
NW_QUAD_CORNER_XY: 425314.82500 5309837.54000
NE_QUAD_CORNER_XY: 429982.60500 5309778.94100
SE_QUAD_CORNERY_XY: 429898.25500 5302832.53300
SW_QUAD_CORNER_XY: 425224.85100 5302891.14400
SECONDARY_NW_QUAD_XY: 425312.47700 5309618.69000
SECONDARY_NE_QUAD_XY: 429980.40400 5309560.08900
SECONDARY_SE_QUAD_XY: 429896.05500 5302613.69700
SECONDARY_SW_QUAD_XY: 425222.50400 5302672.31000
RMSE_XY: 2.10000
IMAGE_SOURCE: BLACK AND WHITE FILM
SOURCE_IMAGE_ID: NAPP 9088-159
SOURCE_IMAGE_DATE: 1996 7 7
SOURCE_DEM_DATE: 1999 0 0
AGENCY: WESTERN MAPPING CENTER (WMC)
PRODUCER: WOOLPERT LLP
PRODUCTION_SYSTEM: INTERGRAPH ISPM, ISIR
COMPRESSION: UNDEFINED
STANDARD_VERSION: 1996 12
METADATA_DATE: 2001 4 4
DATA_FILE_SIZE: 41226409
BYTE_COUNT: 5411
