FILENAME: O4710501.SES.1139233.tif
QUADRANGLE_NAME: TURTLE CREEK
QUADRANT: SE
WEST_LONGITUDE: -105 56 15.00000
EAST_LONGITUDE: -105 52 30.00000
NORTH_LATITUDE: 47 56 15.00000
SOUTH_LATITUDE: 47 52 30.00000
PRODUCTION_DATE: 2001 4 4
RASTER_ORDER: LEFT_RIGHT/TOP_BOTTOM
BAND_ORGANIZATION: SINGLE FILE
BAND_CONTENT: BLACK&WHITE
BAND_CONTENT: UNDEFINED
BAND_CONTENT: UNDEFINED
BITS_PER_PIXEL: 8
SAMPLES_AND_LINES: 5406 7615
HORIZONTAL_DATUM: NAD83
HORIZONTAL_COORDINATE_SYSTEM: UTM
COORDINATE_ZONE: 13
HORIZONTAL_UNITS: meters
HORIZONTAL_RESOLUTION: 1.00000
SECONDARY_HORIZONTAL_DATUM: NAD27
XY_ORIGIN: 429550.00000 5310087.00000
SECONDARY_XY_ORIGIN: 429590.29500 5309865.96200
NATION: US
STATE: MT
NW_QUAD_CORNER_XY: 429982.60500 5309778.94100
NE_QUAD_CORNER_XY: 434650.39300 5309724.12400
SE_QUAD_CORNERY_XY: 434571.66800 5302777.70300
SW_QUAD_CORNER_XY: 429898.25500 5302832.53300
SECONDARY_NW_QUAD_XY: 429980.40400 5309560.08900
SECONDARY_NE_QUAD_XY: 434648.33900 5309505.27000
SECONDARY_SE_QUAD_XY: 434569.61400 5302558.86600
SECONDARY_SW_QUAD_XY: 429896.05500 5302613.69700
RMSE_XY: 2.42000
IMAGE_SOURCE: BLACK AND WHITE FILM
SOURCE_IMAGE_ID: NAPP 9088-103
SOURCE_IMAGE_DATE: 1996 7 7
SOURCE_IMAGE_ID: NAPP 11001-009
SOURCE_IMAGE_DATE: 1998 7 15
SOURCE_DEM_DATE: 1999 0 0
AGENCY: WESTERN MAPPING CENTER (WMC)
PRODUCER: WOOLPERT LLP
PRODUCTION_SYSTEM: INTERGRAPH ISPM, ISIR
COMPRESSION: UNDEFINED
STANDARD_VERSION: 1996 12
METADATA_DATE: 2001 4 16
DATA_FILE_SIZE: 41172096
BYTE_COUNT: 5406
