FILENAME: O4710501.NWS.1139232.tif
QUADRANGLE_NAME: TURTLE CREEK
QUADRANT: NW
WEST_LONGITUDE: -106 0 0.00000
EAST_LONGITUDE: -105 56 15.00000
NORTH_LATITUDE: 48 0 0.00000
SOUTH_LATITUDE: 47 56 15.00000
PRODUCTION_DATE: 2001 4 4
RASTER_ORDER: LEFT_RIGHT/TOP_BOTTOM
BAND_ORGANIZATION: SINGLE FILE
BAND_CONTENT: BLACK&WHITE
BAND_CONTENT: UNDEFINED
BAND_CONTENT: UNDEFINED
BITS_PER_PIXEL: 8
SAMPLES_AND_LINES: 5406 7619
HORIZONTAL_DATUM: NAD83
HORIZONTAL_COORDINATE_SYSTEM: UTM
COORDINATE_ZONE: 13
HORIZONTAL_UNITS: meters
HORIZONTAL_RESOLUTION: 1.00000
SECONDARY_HORIZONTAL_DATUM: NAD27
XY_ORIGIN: 424967.00000 5317092.00000
SECONDARY_XY_ORIGIN: 425007.32400 5316870.71600
NATION: US
STATE: MT
NW_QUAD_CORNER_XY: 425404.88800 5316784.00900
NE_QUAD_CORNER_XY: 430067.03800 5316725.42400
SE_QUAD_CORNERY_XY: 429982.60500 5309778.94100
SW_QUAD_CORNER_XY: 425314.82500 5309837.54000
SECONDARY_NW_QUAD_XY: 425402.54000 5316565.14400
SECONDARY_NE_QUAD_XY: 430064.83700 5316506.55600
SECONDARY_SE_QUAD_XY: 429980.40400 5309560.08900
SECONDARY_SW_QUAD_XY: 425312.47700 5309618.69000
RMSE_XY: 2.26000
IMAGE_SOURCE: BLACK AND WHITE FILM
SOURCE_IMAGE_ID: NAPP 9088-157
SOURCE_IMAGE_DATE: 1996 7 7
SOURCE_DEM_DATE: 1999 0 0
AGENCY: WESTERN MAPPING CENTER (WMC)
PRODUCER: WOOLPERT LLP
PRODUCTION_SYSTEM: INTERGRAPH ISPM, ISIR
COMPRESSION: UNDEFINED
STANDARD_VERSION: 1996 12
METADATA_DATE: 2001 4 4
DATA_FILE_SIZE: 41193720
BYTE_COUNT: 5406
