FILENAME: O4710502.NES.1139243.tif
QUADRANGLE_NAME: EMILY COULEE
QUADRANT: NE
WEST_LONGITUDE: -105 48 45.00000
EAST_LONGITUDE: -105 45 0.00000
NORTH_LATITUDE: 48 0 0.00000
SOUTH_LATITUDE: 47 56 15.00000
PRODUCTION_DATE: 2001 4 4
RASTER_ORDER: LEFT_RIGHT/TOP_BOTTOM
BAND_ORGANIZATION: SINGLE FILE
BAND_CONTENT: BLACK&WHITE
BAND_CONTENT: UNDEFINED
BAND_CONTENT: UNDEFINED
BITS_PER_PIXEL: 8
SAMPLES_AND_LINES: 5388 7607
HORIZONTAL_DATUM: NAD83
HORIZONTAL_COORDINATE_SYSTEM: UTM
COORDINATE_ZONE: 13
HORIZONTAL_UNITS: meters
HORIZONTAL_RESOLUTION: 1.00000
SECONDARY_HORIZONTAL_DATUM: NAD27
XY_ORIGIN: 438971.00000 5316927.00000
SECONDARY_XY_ORIGIN: 439011.18000 5316705.81900
NATION: US
STATE: MT
NW_QUAD_CORNER_XY: 439391.36300 5316619.59300
NE_QUAD_CORNER_XY: 444053.53700 5316572.34800
SE_QUAD_CORNERY_XY: 443985.99300 5309625.83100
SW_QUAD_CORNER_XY: 439318.18900 5309673.08700
SECONDARY_NW_QUAD_XY: 439389.45600 5316400.72300
SECONDARY_NE_QUAD_XY: 444051.77700 5316353.47600
SECONDARY_SE_QUAD_XY: 443984.23200 5309406.97500
SECONDARY_SW_QUAD_XY: 439316.28200 5309454.23200
RMSE_XY: 2.57000
IMAGE_SOURCE: BLACK AND WHITE FILM
SOURCE_IMAGE_ID: NAPP 9086-177
SOURCE_IMAGE_DATE: 1996 6 13
SOURCE_IMAGE_ID: NAPP 9086-178
SOURCE_IMAGE_DATE: 1996 6 13
SOURCE_IMAGE_ID: NAPP 9086-176
SOURCE_IMAGE_DATE: 1996 6 13
SOURCE_IMAGE_ID: NAPP 11001-010
SOURCE_IMAGE_DATE: 1998 7 15
SOURCE_DEM_DATE: 1999 0 0
AGENCY: WESTERN MAPPING CENTER (WMC)
PRODUCER: WOOLPERT LLP
PRODUCTION_SYSTEM: INTERGRAPH ISPM, ISIR
COMPRESSION: UNDEFINED
STANDARD_VERSION: 1996 12
METADATA_DATE: 2001 4 20
DATA_FILE_SIZE: 40991904
BYTE_COUNT: 5388
