FILENAME: O4710505.SWS.1139282.tif
QUADRANGLE_NAME: GADY COULEE
QUADRANT: SW
WEST_LONGITUDE: -105 30 0.00000
EAST_LONGITUDE: -105 26 15.00000
NORTH_LATITUDE: 47 56 15.00000
SOUTH_LATITUDE: 47 52 30.00000
PRODUCTION_DATE: 2001 4 6
RASTER_ORDER: LEFT_RIGHT/TOP_BOTTOM
BAND_ORGANIZATION: SINGLE FILE
BAND_CONTENT: BLACK&WHITE
BAND_CONTENT: UNDEFINED
BAND_CONTENT: UNDEFINED
BITS_PER_PIXEL: 8
SAMPLES_AND_LINES: 5365 7588
HORIZONTAL_DATUM: NAD83
HORIZONTAL_COORDINATE_SYSTEM: UTM
COORDINATE_ZONE: 13
HORIZONTAL_UNITS: meters
HORIZONTAL_RESOLUTION: 1.00000
SECONDARY_HORIZONTAL_DATUM: NAD27
XY_ORIGIN: 462266.00000 5309782.00000
SECONDARY_XY_ORIGIN: 462305.92300 5309561.14500
NATION: US
STATE: MT
NW_QUAD_CORNER_XY: 462657.26900 5309474.61600
NE_QUAD_CORNER_XY: 467325.10000 5309446.26400
SE_QUAD_CORNERY_XY: 467285.74000 5302499.78300
SW_QUAD_CORNER_XY: 462612.28500 5302528.14100
SECONDARY_NW_QUAD_XY: 462656.09500 5309255.75500
SECONDARY_NE_QUAD_XY: 467324.07300 5309227.40100
SECONDARY_SE_QUAD_XY: 467284.71300 5302280.93600
SECONDARY_SW_QUAD_XY: 462611.11100 5302309.29600
RMSE_XY: 1.62000
IMAGE_SOURCE: BLACK AND WHITE FILM
SOURCE_IMAGE_ID: NAPP 9093-165
SOURCE_IMAGE_DATE: 1996 7 9
SOURCE_DEM_DATE: 1999 0 0
AGENCY: WESTERN MAPPING CENTER (WMC)
PRODUCER: WOOLPERT LLP
PRODUCTION_SYSTEM: INTERGRAPH ISPM, ISIR
COMPRESSION: UNDEFINED
STANDARD_VERSION: 1996 12
METADATA_DATE: 2001 4 6
DATA_FILE_SIZE: 40714985
BYTE_COUNT: 5365
