FILENAME: O4710505.NWS.1139280.tif
QUADRANGLE_NAME: GADY COULEE
QUADRANT: NW
WEST_LONGITUDE: -105 30 0.00000
EAST_LONGITUDE: -105 26 15.00000
NORTH_LATITUDE: 48 0 0.00000
SOUTH_LATITUDE: 47 56 15.00000
PRODUCTION_DATE: 2001 4 6
RASTER_ORDER: LEFT_RIGHT/TOP_BOTTOM
BAND_ORGANIZATION: SINGLE FILE
BAND_CONTENT: BLACK&WHITE
BAND_CONTENT: UNDEFINED
BAND_CONTENT: UNDEFINED
BITS_PER_PIXEL: 8
SAMPLES_AND_LINES: 5359 7588
HORIZONTAL_DATUM: NAD83
HORIZONTAL_COORDINATE_SYSTEM: UTM
COORDINATE_ZONE: 13
HORIZONTAL_UNITS: meters
HORIZONTAL_RESOLUTION: 1.00000
SECONDARY_HORIZONTAL_DATUM: NAD27
XY_ORIGIN: 462311.00000 5316729.00000
SECONDARY_XY_ORIGIN: 462350.87800 5316508.02800
NATION: US
STATE: MT
NW_QUAD_CORNER_XY: 462702.29700 5316421.16700
NE_QUAD_CORNER_XY: 467364.50000 5316392.82100
SE_QUAD_CORNERY_XY: 467325.10000 5309446.26400
SW_QUAD_CORNER_XY: 462657.26900 5309474.61600
SECONDARY_NW_QUAD_XY: 462701.12300 5316202.29000
SECONDARY_NE_QUAD_XY: 467363.47300 5316173.94300
SECONDARY_SE_QUAD_XY: 467324.07300 5309227.40100
SECONDARY_SW_QUAD_XY: 462656.09500 5309255.75500
RMSE_XY: 2.06000
IMAGE_SOURCE: BLACK AND WHITE FILM
SOURCE_IMAGE_ID: NAPP 9093-163
SOURCE_IMAGE_DATE: 1996 7 9
SOURCE_DEM_DATE: 1999 0 0
AGENCY: WESTERN MAPPING CENTER (WMC)
PRODUCER: WOOLPERT LLP
PRODUCTION_SYSTEM: INTERGRAPH ISPM, ISIR
COMPRESSION: UNDEFINED
STANDARD_VERSION: 1996 12
METADATA_DATE: 2001 4 6
DATA_FILE_SIZE: 40669451
BYTE_COUNT: 5359
