FILENAME: O4710507.SES.1139305.tif
QUADRANGLE_NAME: SULLIVAN COULEE
QUADRANT: SE
WEST_LONGITUDE: -105 11 15.00000
EAST_LONGITUDE: -105 7 30.00000
NORTH_LATITUDE: 47 56 15.00000
SOUTH_LATITUDE: 47 52 30.00000
PRODUCTION_DATE: 2001 3 16
RASTER_ORDER: LEFT_RIGHT/TOP_BOTTOM
BAND_ORGANIZATION: SINGLE FILE
BAND_CONTENT: BLACK&WHITE
BAND_CONTENT: UNDEFINED
BAND_CONTENT: UNDEFINED
BITS_PER_PIXEL: 8
SAMPLES_AND_LINES: 5336 7569
HORIZONTAL_DATUM: NAD83
HORIZONTAL_COORDINATE_SYSTEM: UTM
COORDINATE_ZONE: 13
HORIZONTAL_UNITS: meters
HORIZONTAL_RESOLUTION: 1.00000
SECONDARY_HORIZONTAL_DATUM: NAD27
XY_ORIGIN: 485634.00000 5309678.00000
SECONDARY_XY_ORIGIN: 485673.62500 5309457.13700
NATION: US
STATE: MT
NW_QUAD_CORNER_XY: 485996.46000 5309370.65800
NE_QUAD_CORNER_XY: 490664.30600 5309361.20700
SE_QUAD_CORNERY_XY: 490653.06000 5302414.70800
SW_QUAD_CORNER_XY: 485979.59200 5302424.16000
SECONDARY_NW_QUAD_XY: 485996.02000 5309151.79300
SECONDARY_NE_QUAD_XY: 490664.01300 5309142.34200
SECONDARY_SE_QUAD_XY: 490652.76700 5302195.85900
SECONDARY_SW_QUAD_XY: 485979.15200 5302205.31200
RMSE_XY: 2.18000
IMAGE_SOURCE: BLACK AND WHITE FILM
SOURCE_IMAGE_ID: NAPP 9103-197
SOURCE_IMAGE_DATE: 1996 7 15
SOURCE_DEM_DATE: 1999 0 0
AGENCY: WESTERN MAPPING CENTER (WMC)
PRODUCER: WOOLPERT LLP
PRODUCTION_SYSTEM: INTERGRAPH ISPM, ISIR
COMPRESSION: UNDEFINED
STANDARD_VERSION: 1996 12
METADATA_DATE: 2001 3 16
DATA_FILE_SIZE: 40393520
BYTE_COUNT: 5336
