FILENAME: O4710509.SWS.1164985.tif
QUADRANGLE_NAME: SHADE CREEK
QUADRANT: SW
WEST_LONGITUDE: -106 0 0.00000
EAST_LONGITUDE: -105 56 15.00000
NORTH_LATITUDE: 47 48 45.00000
SOUTH_LATITUDE: 47 45 0.00000
PRODUCTION_DATE: 2001 10 14
RASTER_ORDER: LEFT_RIGHT/TOP_BOTTOM
BAND_ORGANIZATION: SINGLE FILE
BAND_CONTENT: BLACK&WHITE
BAND_CONTENT: UNDEFINED
BAND_CONTENT: UNDEFINED
BITS_PER_PIXEL: 8
SAMPLES_AND_LINES: 5422 7618
HORIZONTAL_DATUM: NAD83
HORIZONTAL_COORDINATE_SYSTEM: UTM
COORDINATE_ZONE: 13
HORIZONTAL_UNITS: meters
HORIZONTAL_RESOLUTION: 1.00000
SECONDARY_HORIZONTAL_DATUM: NAD27
XY_ORIGIN: 424697.00000 5296252.00000
SECONDARY_XY_ORIGIN: 424737.36400 5296031.42500
NATION: US
STATE: MT
NW_QUAD_CORNER_XY: 425134.96800 5295944.82200
NE_QUAD_CORNER_XY: 429813.99000 5295886.19800
SE_QUAD_CORNERY_XY: 429729.81000 5288939.93800
SW_QUAD_CORNER_XY: 425045.17400 5288998.57400
SECONDARY_NW_QUAD_XY: 425132.62100 5295726.00500
SECONDARY_NE_QUAD_XY: 429811.79000 5295667.37900
SECONDARY_SE_QUAD_XY: 429727.61000 5288721.13600
SECONDARY_SW_QUAD_XY: 425042.82700 5288779.77500
RMSE_XY: 2.31000
IMAGE_SOURCE: BLACK AND WHITE FILM
SOURCE_IMAGE_ID: NAPP 9088-163
SOURCE_IMAGE_DATE: 1996 7 7
SOURCE_IMAGE_ID: NAPP 9088-098
SOURCE_IMAGE_DATE: 1996 7 7
SOURCE_DEM_DATE: 1999 0 0
AGENCY: WESTERN MAPPING CENTER (WMC)
PRODUCER: WOOLPERT LLP
PRODUCTION_SYSTEM: INTERGRAPH ISPM, ISIR
COMPRESSION: UNDEFINED
STANDARD_VERSION: 1996 12
METADATA_DATE: 2001 10 25
DATA_FILE_SIZE: 41310218
BYTE_COUNT: 5422
