FILENAME: O4710509.SES.1164984.tif
QUADRANGLE_NAME: SHADE CREEK
QUADRANT: SE
WEST_LONGITUDE: -105 56 15.00000
EAST_LONGITUDE: -105 52 30.00000
NORTH_LATITUDE: 47 48 45.00000
SOUTH_LATITUDE: 47 45 0.00000
PRODUCTION_DATE: 2001 10 14
RASTER_ORDER: LEFT_RIGHT/TOP_BOTTOM
BAND_ORGANIZATION: SINGLE FILE
BAND_CONTENT: BLACK&WHITE
BAND_CONTENT: UNDEFINED
BAND_CONTENT: UNDEFINED
BITS_PER_PIXEL: 8
SAMPLES_AND_LINES: 5417 7613
HORIZONTAL_DATUM: NAD83
HORIZONTAL_COORDINATE_SYSTEM: UTM
COORDINATE_ZONE: 13
HORIZONTAL_UNITS: meters
HORIZONTAL_RESOLUTION: 1.00000
SECONDARY_HORIZONTAL_DATUM: NAD27
XY_ORIGIN: 429382.00000 5296193.00000
SECONDARY_XY_ORIGIN: 429422.32800 5295972.41600
NATION: US
STATE: MT
NW_QUAD_CORNER_XY: 429813.99000 5295886.19800
NE_QUAD_CORNER_XY: 434493.02100 5295831.35700
SE_QUAD_CORNERY_XY: 434414.45300 5288885.08500
SW_QUAD_CORNER_XY: 429729.81000 5288939.93800
SECONDARY_NW_QUAD_XY: 429811.79000 5295667.37900
SECONDARY_NE_QUAD_XY: 434490.96800 5295612.53600
SECONDARY_SE_QUAD_XY: 434412.40000 5288666.28200
SECONDARY_SW_QUAD_XY: 429727.61000 5288721.13600
RMSE_XY: 2.16000
IMAGE_SOURCE: BLACK AND WHITE FILM
SOURCE_IMAGE_ID: NAPP 9088-099
SOURCE_IMAGE_DATE: 1996 7 7
SOURCE_IMAGE_ID: NAPP 9088-098
SOURCE_IMAGE_DATE: 1996 7 7
SOURCE_DEM_DATE: 1999 0 0
AGENCY: WESTERN MAPPING CENTER (WMC)
PRODUCER: WOOLPERT LLP
PRODUCTION_SYSTEM: INTERGRAPH ISPM, ISIR
COMPRESSION: UNDEFINED
STANDARD_VERSION: 1996 12
METADATA_DATE: 2001 10 25
DATA_FILE_SIZE: 41245038
BYTE_COUNT: 5417
