FILENAME: O4710511.SES.1165008.tif
QUADRANGLE_NAME: DAILEY SPRING
QUADRANT: SE
WEST_LONGITUDE: -105 41 15.00000
EAST_LONGITUDE: -105 37 30.00000
NORTH_LATITUDE: 47 48 45.00000
SOUTH_LATITUDE: 47 45 0.00000
PRODUCTION_DATE: 2001 10 10
RASTER_ORDER: LEFT_RIGHT/TOP_BOTTOM
BAND_ORGANIZATION: SINGLE FILE
BAND_CONTENT: BLACK&WHITE
BAND_CONTENT: UNDEFINED
BAND_CONTENT: UNDEFINED
BITS_PER_PIXEL: 8
SAMPLES_AND_LINES: 5394 7599
HORIZONTAL_DATUM: NAD83
HORIZONTAL_COORDINATE_SYSTEM: UTM
COORDINATE_ZONE: 13
HORIZONTAL_UNITS: meters
HORIZONTAL_RESOLUTION: 1.00000
SECONDARY_HORIZONTAL_DATUM: NAD27
XY_ORIGIN: 448121.00000 5295997.00000
SECONDARY_XY_ORIGIN: 448161.17600 5295776.37800
NATION: US
STATE: MT
NW_QUAD_CORNER_XY: 448530.15700 5295689.52900
NE_QUAD_CORNER_XY: 453209.21500 5295649.81700
SE_QUAD_CORNERY_XY: 453153.09700 5288703.50700
SW_QUAD_CORNER_XY: 448468.42700 5288743.22700
SECONDARY_NW_QUAD_XY: 448528.54400 5295470.70400
SECONDARY_NE_QUAD_XY: 453207.74800 5295430.99100
SECONDARY_SE_QUAD_XY: 453151.63000 5288484.69900
SECONDARY_SW_QUAD_XY: 448466.81300 5288524.42000
RMSE_XY: 1.99000
IMAGE_SOURCE: BLACK AND WHITE FILM
SOURCE_IMAGE_ID: NAPP 9105-097
SOURCE_IMAGE_DATE: 1996 8 1
SOURCE_IMAGE_ID: NAPP 9105-096
SOURCE_IMAGE_DATE: 1996 8 1
SOURCE_DEM_DATE: 1999 0 0
AGENCY: WESTERN MAPPING CENTER (WMC)
PRODUCER: WOOLPERT LLP
PRODUCTION_SYSTEM: INTERGRAPH ISPM, ISIR
COMPRESSION: UNDEFINED
STANDARD_VERSION: 1996 12
METADATA_DATE: 2001 10 20
DATA_FILE_SIZE: 40994400
BYTE_COUNT: 5394
