FILENAME: O4710513.SWS.1165234.tif
QUADRANGLE_NAME: VIDA
QUADRANT: SW
WEST_LONGITUDE: -105 30 0.00000
EAST_LONGITUDE: -105 26 15.00000
NORTH_LATITUDE: 47 48 45.00000
SOUTH_LATITUDE: 47 45 0.00000
PRODUCTION_DATE: 2001 9 28
RASTER_ORDER: LEFT_RIGHT/TOP_BOTTOM
BAND_ORGANIZATION: SINGLE FILE
BAND_CONTENT: BLACK&WHITE
BAND_CONTENT: UNDEFINED
BAND_CONTENT: UNDEFINED
BITS_PER_PIXEL: 8
SAMPLES_AND_LINES: 5376 7587
HORIZONTAL_DATUM: NAD83
HORIZONTAL_COORDINATE_SYSTEM: UTM
COORDINATE_ZONE: 13
HORIZONTAL_UNITS: meters
HORIZONTAL_RESOLUTION: 1.00000
SECONDARY_HORIZONTAL_DATUM: NAD27
XY_ORIGIN: 462176.00000 5295889.00000
SECONDARY_XY_ORIGIN: 462216.01500 5295668.38000
NATION: US
STATE: MT
NW_QUAD_CORNER_XY: 462567.34600 5295581.74200
NE_QUAD_CORNER_XY: 467246.41800 5295553.37700
SE_QUAD_CORNERY_XY: 467207.13600 5288607.04700
SW_QUAD_CORNER_XY: 462522.45200 5288635.41700
SECONDARY_NW_QUAD_XY: 462566.17300 5295362.91300
SECONDARY_NE_QUAD_XY: 467245.39200 5295334.54800
SECONDARY_SE_QUAD_XY: 467206.11000 5288388.23500
SECONDARY_SW_QUAD_XY: 462521.27900 5288416.60700
RMSE_XY: 2.78000
IMAGE_SOURCE: BLACK AND WHITE FILM
SOURCE_IMAGE_ID: NAPP 9093-169
SOURCE_IMAGE_DATE: 1996 7 9
SOURCE_IMAGE_ID: NAPP 9093-087
SOURCE_IMAGE_DATE: 1996 7 9
SOURCE_DEM_DATE: 1999 0 0
AGENCY: WESTERN MAPPING CENTER (WMC)
PRODUCER: WOOLPERT LLP
PRODUCTION_SYSTEM: INTERGRAPH ISPM, ISIR
COMPRESSION: UNDEFINED
STANDARD_VERSION: 1996 12
METADATA_DATE: 2001 10 12
DATA_FILE_SIZE: 40793088
BYTE_COUNT: 5376
