FILENAME: O4710513.SES.1165233.tif
QUADRANGLE_NAME: VIDA
QUADRANT: SE
WEST_LONGITUDE: -105 26 15.00000
EAST_LONGITUDE: -105 22 30.00000
NORTH_LATITUDE: 47 48 45.00000
SOUTH_LATITUDE: 47 45 0.00000
PRODUCTION_DATE: 2001 9 28
RASTER_ORDER: LEFT_RIGHT/TOP_BOTTOM
BAND_ORGANIZATION: SINGLE FILE
BAND_CONTENT: BLACK&WHITE
BAND_CONTENT: UNDEFINED
BAND_CONTENT: UNDEFINED
BITS_PER_PIXEL: 8
SAMPLES_AND_LINES: 5370 7584
HORIZONTAL_DATUM: NAD83
HORIZONTAL_COORDINATE_SYSTEM: UTM
COORDINATE_ZONE: 13
HORIZONTAL_UNITS: meters
HORIZONTAL_RESOLUTION: 1.00000
SECONDARY_HORIZONTAL_DATUM: NAD27
XY_ORIGIN: 466861.00000 5295861.00000
SECONDARY_XY_ORIGIN: 466900.95400 5295640.36800
NATION: US
STATE: MT
NW_QUAD_CORNER_XY: 467246.41800 5295553.37700
NE_QUAD_CORNER_XY: 471925.49400 5295528.79400
SE_QUAD_CORNERY_XY: 471891.82400 5288582.45900
SW_QUAD_CORNER_XY: 467207.13600 5288607.04700
SECONDARY_NW_QUAD_XY: 467245.39200 5295334.54800
SECONDARY_NE_QUAD_XY: 471924.61400 5295309.96400
SECONDARY_SE_QUAD_XY: 471890.94400 5288363.64700
SECONDARY_SW_QUAD_XY: 467206.11000 5288388.23500
RMSE_XY: 2.49000
IMAGE_SOURCE: BLACK AND WHITE FILM
SOURCE_IMAGE_ID: NAPP 9093-088
SOURCE_IMAGE_DATE: 1996 7 9
SOURCE_IMAGE_ID: NAPP 9093-087
SOURCE_IMAGE_DATE: 1996 7 9
SOURCE_DEM_DATE: 1999 0 0
AGENCY: WESTERN MAPPING CENTER (WMC)
PRODUCER: WOOLPERT LLP
PRODUCTION_SYSTEM: INTERGRAPH ISPM, ISIR
COMPRESSION: UNDEFINED
STANDARD_VERSION: 1996 12
METADATA_DATE: 2001 10 12
DATA_FILE_SIZE: 40731450
BYTE_COUNT: 5370
