FILENAME: O4710517.NWS.1164987.tif
QUADRANGLE_NAME: FIGURE EIGHT CREEK
QUADRANT: NW
WEST_LONGITUDE: -106 0 0.00000
EAST_LONGITUDE: -105 56 15.00000
NORTH_LATITUDE: 47 45 0.00000
SOUTH_LATITUDE: 47 41 15.00000
PRODUCTION_DATE: 2001 10 14
RASTER_ORDER: LEFT_RIGHT/TOP_BOTTOM
BAND_ORGANIZATION: SINGLE FILE
BAND_CONTENT: BLACK&WHITE
BAND_CONTENT: UNDEFINED
BAND_CONTENT: UNDEFINED
BITS_PER_PIXEL: 8
SAMPLES_AND_LINES: 5428 7618
HORIZONTAL_DATUM: NAD83
HORIZONTAL_COORDINATE_SYSTEM: UTM
COORDINATE_ZONE: 13
HORIZONTAL_UNITS: meters
HORIZONTAL_RESOLUTION: 1.00000
SECONDARY_HORIZONTAL_DATUM: NAD27
XY_ORIGIN: 424607.00000 5289306.00000
SECONDARY_XY_ORIGIN: 424647.37600 5289085.66500
NATION: US
STATE: MT
NW_QUAD_CORNER_XY: 425045.17400 5288998.57400
NE_QUAD_CORNER_XY: 429729.81000 5288939.93800
SE_QUAD_CORNERY_XY: 429645.71300 5281993.75100
SW_QUAD_CORNER_XY: 424955.47000 5282052.39900
SECONDARY_NW_QUAD_XY: 425042.82700 5288779.77500
SECONDARY_NE_QUAD_XY: 429727.61000 5288721.13600
SECONDARY_SE_QUAD_XY: 429643.51300 5281774.96900
SECONDARY_SW_QUAD_XY: 424953.12300 5281833.61900
RMSE_XY: 2.02000
IMAGE_SOURCE: BLACK AND WHITE FILM
SOURCE_IMAGE_ID: NAPP 9088-165
SOURCE_IMAGE_DATE: 1996 7 7
SOURCE_IMAGE_ID: NAPP 9088-098
SOURCE_IMAGE_DATE: 1996 7 7
SOURCE_DEM_DATE: 1999 0 0
AGENCY: WESTERN MAPPING CENTER (WMC)
PRODUCER: WOOLPERT LLP
PRODUCTION_SYSTEM: INTERGRAPH ISPM, ISIR
COMPRESSION: UNDEFINED
STANDARD_VERSION: 1996 12
METADATA_DATE: 2001 10 25
DATA_FILE_SIZE: 41355932
BYTE_COUNT: 5428
