FILENAME: O4710517.NES.1164986.tif
QUADRANGLE_NAME: FIGURE EIGHT CREEK
QUADRANT: NE
WEST_LONGITUDE: -105 56 15.00000
EAST_LONGITUDE: -105 52 30.00000
NORTH_LATITUDE: 47 45 0.00000
SOUTH_LATITUDE: 47 41 15.00000
PRODUCTION_DATE: 2001 10 14
RASTER_ORDER: LEFT_RIGHT/TOP_BOTTOM
BAND_ORGANIZATION: SINGLE FILE
BAND_CONTENT: BLACK&WHITE
BAND_CONTENT: UNDEFINED
BAND_CONTENT: UNDEFINED
BITS_PER_PIXEL: 8
SAMPLES_AND_LINES: 5422 7614
HORIZONTAL_DATUM: NAD83
HORIZONTAL_COORDINATE_SYSTEM: UTM
COORDINATE_ZONE: 13
HORIZONTAL_UNITS: meters
HORIZONTAL_RESOLUTION: 1.00000
SECONDARY_HORIZONTAL_DATUM: NAD27
XY_ORIGIN: 429298.00000 5289247.00000
SECONDARY_XY_ORIGIN: 429338.34500 5289026.64100
NATION: US
STATE: MT
NW_QUAD_CORNER_XY: 429729.81000 5288939.93800
NE_QUAD_CORNER_XY: 434414.45300 5288885.08500
SE_QUAD_CORNERY_XY: 434335.96400 5281938.88700
SW_QUAD_CORNER_XY: 429645.71300 5281993.75100
SECONDARY_NW_QUAD_XY: 429727.61000 5288721.13600
SECONDARY_NE_QUAD_XY: 434412.40000 5288666.28200
SECONDARY_SE_QUAD_XY: 434333.91100 5281720.10300
SECONDARY_SW_QUAD_XY: 429643.51300 5281774.96900
RMSE_XY: 1.98000
IMAGE_SOURCE: BLACK AND WHITE FILM
SOURCE_IMAGE_ID: NAPP 9088-097
SOURCE_IMAGE_DATE: 1996 7 7
SOURCE_IMAGE_ID: NAPP 9088-098
SOURCE_IMAGE_DATE: 1996 7 7
SOURCE_DEM_DATE: 1999 0 0
AGENCY: WESTERN MAPPING CENTER (WMC)
PRODUCER: WOOLPERT LLP
PRODUCTION_SYSTEM: INTERGRAPH ISPM, ISIR
COMPRESSION: UNDEFINED
STANDARD_VERSION: 1996 12
METADATA_DATE: 2001 11 12
DATA_FILE_SIZE: 41288530
BYTE_COUNT: 5422
