FILENAME: O4710519.NES.1165010.tif
QUADRANGLE_NAME: HUDIBURGH RESERVOIR NW
QUADRANT: NE
WEST_LONGITUDE: -105 41 15.00000
EAST_LONGITUDE: -105 37 30.00000
NORTH_LATITUDE: 47 45 0.00000
SOUTH_LATITUDE: 47 41 15.00000
PRODUCTION_DATE: 2001 10 10
RASTER_ORDER: LEFT_RIGHT/TOP_BOTTOM
BAND_ORGANIZATION: SINGLE FILE
BAND_CONTENT: BLACK&WHITE
BAND_CONTENT: UNDEFINED
BAND_CONTENT: UNDEFINED
BITS_PER_PIXEL: 8
SAMPLES_AND_LINES: 5400 7598
HORIZONTAL_DATUM: NAD83
HORIZONTAL_COORDINATE_SYSTEM: UTM
COORDINATE_ZONE: 13
HORIZONTAL_UNITS: meters
HORIZONTAL_RESOLUTION: 1.00000
SECONDARY_HORIZONTAL_DATUM: NAD27
XY_ORIGIN: 448059.00000 5289050.00000
SECONDARY_XY_ORIGIN: 448099.21100 5288829.54100
NATION: US
STATE: MT
NW_QUAD_CORNER_XY: 448468.42700 5288743.22700
NE_QUAD_CORNER_XY: 453153.09700 5288703.50700
SE_QUAD_CORNERY_XY: 453097.03500 5281757.27300
SW_QUAD_CORNER_XY: 448406.75800 5281797.00000
SECONDARY_NW_QUAD_XY: 448466.81300 5288524.42000
SECONDARY_NE_QUAD_XY: 453151.63000 5288484.69900
SECONDARY_SE_QUAD_XY: 453095.56800 5281538.48300
SECONDARY_SW_QUAD_XY: 448405.14500 5281578.21200
RMSE_XY: 2.17000
IMAGE_SOURCE: BLACK AND WHITE FILM
SOURCE_IMAGE_ID: NAPP 9105-095
SOURCE_IMAGE_DATE: 1996 8 1
SOURCE_IMAGE_ID: NAPP 9105-096
SOURCE_IMAGE_DATE: 1996 8 1
SOURCE_DEM_DATE: 1999 0 0
AGENCY: WESTERN MAPPING CENTER (WMC)
PRODUCER: WOOLPERT LLP
PRODUCTION_SYSTEM: INTERGRAPH ISPM, ISIR
COMPRESSION: UNDEFINED
STANDARD_VERSION: 1996 12
METADATA_DATE: 2001 10 20
DATA_FILE_SIZE: 41034600
BYTE_COUNT: 5400
