FILENAME: O4710521.SWS.1165238.tif
QUADRANGLE_NAME: BEERY RESERVOIR
QUADRANT: SW
WEST_LONGITUDE: -105 30 0.00000
EAST_LONGITUDE: -105 26 15.00000
NORTH_LATITUDE: 47 41 15.00000
SOUTH_LATITUDE: 47 37 30.00000
PRODUCTION_DATE: 2001 9 28
RASTER_ORDER: LEFT_RIGHT/TOP_BOTTOM
BAND_ORGANIZATION: SINGLE FILE
BAND_CONTENT: BLACK&WHITE
BAND_CONTENT: UNDEFINED
BAND_CONTENT: UNDEFINED
BITS_PER_PIXEL: 8
SAMPLES_AND_LINES: 5387 7587
HORIZONTAL_DATUM: NAD83
HORIZONTAL_COORDINATE_SYSTEM: UTM
COORDINATE_ZONE: 13
HORIZONTAL_UNITS: meters
HORIZONTAL_RESOLUTION: 1.00000
SECONDARY_HORIZONTAL_DATUM: NAD27
XY_ORIGIN: 462086.00000 5281996.00000
SECONDARY_XY_ORIGIN: 462126.12500 5281775.59900
NATION: US
STATE: MT
NW_QUAD_CORNER_XY: 462477.60300 5281689.16900
NE_QUAD_CORNER_XY: 467167.89400 5281660.79200
SE_QUAD_CORNERY_XY: 467128.69000 5274714.61300
SW_QUAD_CORNER_XY: 462432.79900 5274742.99500
SECONDARY_NW_QUAD_XY: 462476.43000 5281470.37700
SECONDARY_NE_QUAD_XY: 467166.86700 5281441.99900
SECONDARY_SE_QUAD_XY: 467127.66400 5274495.84000
SECONDARY_SW_QUAD_XY: 462431.62600 5274524.22300
RMSE_XY: 2.64000
IMAGE_SOURCE: BLACK AND WHITE FILM
SOURCE_IMAGE_ID: NAPP 9093-173
SOURCE_IMAGE_DATE: 1996 7 9
SOURCE_DEM_DATE: 1999 0 0
AGENCY: WESTERN MAPPING CENTER (WMC)
PRODUCER: WOOLPERT LLP
PRODUCTION_SYSTEM: INTERGRAPH ISPM, ISIR
COMPRESSION: UNDEFINED
STANDARD_VERSION: 1996 12
METADATA_DATE: 2001 9 28
DATA_FILE_SIZE: 40876556
BYTE_COUNT: 5387
