FILENAME: O4710524.SES.1165273.tif
QUADRANGLE_NAME: RICHEY
QUADRANT: SE
WEST_LONGITUDE: -105 3 45.00000
EAST_LONGITUDE: -105 0 0.00000
NORTH_LATITUDE: 47 41 15.00000
SOUTH_LATITUDE: 47 37 30.00000
PRODUCTION_DATE: 2001 9 19
RASTER_ORDER: LEFT_RIGHT/TOP_BOTTOM
BAND_ORGANIZATION: SINGLE FILE
BAND_CONTENT: BLACK&WHITE
BAND_CONTENT: UNDEFINED
BAND_CONTENT: UNDEFINED
BITS_PER_PIXEL: 8
SAMPLES_AND_LINES: 5346 7561
HORIZONTAL_DATUM: NAD83
HORIZONTAL_COORDINATE_SYSTEM: UTM
COORDINATE_ZONE: 13
HORIZONTAL_UNITS: meters
HORIZONTAL_RESOLUTION: 1.00000
SECONDARY_HORIZONTAL_DATUM: NAD27
XY_ORIGIN: 494959.00000 5281877.00000
SECONDARY_XY_ORIGIN: 494998.71800 5281656.49000
NATION: US
STATE: MT
NW_QUAD_CORNER_XY: 495309.69500 5281569.98900
NE_QUAD_CORNER_XY: 500000.00000 5281568.09700
SE_QUAD_CORNERY_XY: 500000.00000 5274621.90000
SW_QUAD_CORNER_XY: 495304.09500 5274623.79200
SECONDARY_NW_QUAD_XY: 495309.54800 5281351.19300
SECONDARY_NE_QUAD_XY: 500000.00000 5281349.30100
SECONDARY_SE_QUAD_XY: 500000.00000 5274403.12300
SECONDARY_SW_QUAD_XY: 495303.94800 5274405.01600
RMSE_XY: 1.76000
IMAGE_SOURCE: BLACK AND WHITE FILM
SOURCE_IMAGE_ID: NAPP 9108-157
SOURCE_IMAGE_DATE: 1996 8 8
SOURCE_DEM_DATE: 1999 0 0
AGENCY: WESTERN MAPPING CENTER (WMC)
PRODUCER: WOOLPERT LLP
PRODUCTION_SYSTEM: INTERGRAPH ISPM, ISIR
COMPRESSION: UNDEFINED
STANDARD_VERSION: 1996 12
METADATA_DATE: 2001 9 19
DATA_FILE_SIZE: 40426452
BYTE_COUNT: 5346
