FILENAME: O4710524.NWS.1165272.tif
QUADRANGLE_NAME: RICHEY
QUADRANT: NW
WEST_LONGITUDE: -105 7 30.00000
EAST_LONGITUDE: -105 3 45.00000
NORTH_LATITUDE: 47 45 0.00000
SOUTH_LATITUDE: 47 41 15.00000
PRODUCTION_DATE: 2001 9 19
RASTER_ORDER: LEFT_RIGHT/TOP_BOTTOM
BAND_ORGANIZATION: SINGLE FILE
BAND_CONTENT: BLACK&WHITE
BAND_CONTENT: UNDEFINED
BAND_CONTENT: UNDEFINED
BITS_PER_PIXEL: 8
SAMPLES_AND_LINES: 5347 7565
HORIZONTAL_DATUM: NAD83
HORIZONTAL_COORDINATE_SYSTEM: UTM
COORDINATE_ZONE: 13
HORIZONTAL_UNITS: meters
HORIZONTAL_RESOLUTION: 1.00000
SECONDARY_HORIZONTAL_DATUM: NAD27
XY_ORIGIN: 490274.00000 5288829.00000
SECONDARY_XY_ORIGIN: 490313.71900 5288608.41300
NATION: US
STATE: MT
NW_QUAD_CORNER_XY: 490630.60200 5288521.93600
NE_QUAD_CORNER_XY: 495315.30100 5288516.26200
SE_QUAD_CORNERY_XY: 495309.69500 5281569.98900
SW_QUAD_CORNER_XY: 490619.39000 5281575.66400
SECONDARY_NW_QUAD_XY: 490630.30900 5288303.12200
SECONDARY_NE_QUAD_XY: 495315.15400 5288297.44700
SECONDARY_SE_QUAD_XY: 495309.54800 5281351.19300
SECONDARY_SW_QUAD_XY: 490619.09700 5281356.86800
RMSE_XY: 2.13000
IMAGE_SOURCE: BLACK AND WHITE FILM
SOURCE_IMAGE_ID: NAPP 9103-144
SOURCE_IMAGE_DATE: 1996 7 15
SOURCE_DEM_DATE: 1999 0 0
AGENCY: WESTERN MAPPING CENTER (WMC)
PRODUCER: WOOLPERT LLP
PRODUCTION_SYSTEM: INTERGRAPH ISPM, ISIR
COMPRESSION: UNDEFINED
STANDARD_VERSION: 1996 12
METADATA_DATE: 2001 9 19
DATA_FILE_SIZE: 40455402
BYTE_COUNT: 5347
